BEGIN:VCALENDAR
VERSION:2.0
PRODID:-//Data &amp; AI Literacy Association - ECPv6.15.20//NONSGML v1.0//EN
CALSCALE:GREGORIAN
METHOD:PUBLISH
X-WR-CALNAME:Data &amp; AI Literacy Association
X-ORIGINAL-URL:https://dalahk.org
X-WR-CALDESC:Events for Data &amp; AI Literacy Association
REFRESH-INTERVAL;VALUE=DURATION:PT1H
X-Robots-Tag:noindex
X-PUBLISHED-TTL:PT1H
BEGIN:VTIMEZONE
TZID:Asia/Shanghai
BEGIN:STANDARD
TZOFFSETFROM:+0800
TZOFFSETTO:+0800
TZNAME:CST
DTSTART:20250101T000000
END:STANDARD
END:VTIMEZONE
BEGIN:VEVENT
DTSTART;TZID=Asia/Shanghai:20260515T100000
DTEND;TZID=Asia/Shanghai:20260515T170000
DTSTAMP:20260425T111253
CREATED:20260422T103343Z
LAST-MODIFIED:20260424T103814Z
UID:18227-1778839200-1778864400@dalahk.org
SUMMARY:DALA's Support HK01 AI Transformation Solution Day 2026
DESCRIPTION:HK01 AI Transformation Solution Day 2026 \nThe year’s premier AI event – Register Now: https://bit.ly/4u3j8Pd \nEvent Highlights: \n• 20+ themed conferences and seminars | AI business strategies from global leaders including NVIDIA\, Microsoft\, and IBM. \n• 20+ AI exhibitors | Experience cutting-edge AI solutions to boost operational efficiency. \n• Expert Workshops | Master Google Gemini and diverse AI tools for professional transformation. \n• Elite Networking | Build high-value cross-industry connections. \nDate: May 15\, 2026 (Friday) \nTime: 10:00 – 17:00 \nVenue: Hong Kong Convention and Exhibition Centre (HKCEC) \nStrategic Background: \nBuilding on last year’s success with 8\,000+ participants\, this summit brings together AI enterprises and practical use cases. Our goal is to help businesses overcome cost and talent barriers\, achieving “industries for AI” and “AI for industries” to cement Hong Kong as a global AI hub.
URL:https://dalahk.org/event/dalas-support-hk01-ai-transformation-solution-day-2026/
LOCATION:Hong Kong Convention and Exhibition Centre (HKCEC)
CATEGORIES:Upcoming Events
ATTACH;FMTTYPE=image/jpeg:https://dalahk.org/wp-content/uploads/2026/04/《香港01》企業人工智能升級轉型交流日2026支持機構第一次活動前期宣傳_1200x675-scaled.jpg
END:VEVENT
BEGIN:VEVENT
DTSTART;TZID=Asia/Shanghai:20260521T093000
DTEND;TZID=Asia/Shanghai:20260521T170000
DTSTAMP:20260425T111253
CREATED:20260330T140041Z
LAST-MODIFIED:20260330T141210Z
UID:18185-1779355800-1779382800@dalahk.org
SUMMARY:DALA's Support Tech Fest Hong Kong’s TecFestSummit 2026
DESCRIPTION:#DALA fully supports Tech Fest Hong Kong’s TecFestSummit and its drive to advance practical AI and innovation across financial services. \nJoin us at TecFestSummit for the “The Future of hFSI: AI\, Innovation and Impact”. This session isn’t about distant theories – it’s about how AI is actively transforming customer experiences\, boosting operational efficiency\, and driving market resilience right now.\n​\nLearn how the biggest players in Hong Kong’s financial ecosystem are scaling AI to build the future of finance\, while keeping trust and regulatory alignment front and center.\n​\nKing Leung 梁瀚璟 | Global Head of FS\, Fintech and Sustainability\, Invest Hong Kong (Moderator)\nJohn Hsu | Group Chief Technology Officer\, Hong Kong Exchanges and Clearing Limited (HKEX)\nMark Arel | Head of Professional Service China\, Hong Kong and Macau\, Amazon Web Services (AWS)\nTat Lee | Chief Executive\, WeLab Bank\nTim Y. | Chief Executive Officer\, Octopus Holdings Limited\n​\n📅 21 May 2026 | 📍 HKCEC\n🎟️ Get Your Pass Now: techfest.hk/
URL:https://dalahk.org/event/dalas-support-tech-fest-hong-kongs-tecfestsummit-2026/
LOCATION:Meeting Rooms S221–230\, 2/F Hong Kong Convention & Exhibition Centre (Old Wing)
CATEGORIES:Upcoming Events
ATTACH;FMTTYPE=image/png:https://dalahk.org/wp-content/uploads/2026/03/Tech-Fest-2026-Supporting-Organisation-Banner_DALA.png
END:VEVENT
END:VCALENDAR