BEGIN:VCALENDAR
VERSION:2.0
PRODID:-//Data &amp; AI Literacy Association - ECPv6.15.20//NONSGML v1.0//EN
CALSCALE:GREGORIAN
METHOD:PUBLISH
X-WR-CALNAME:Data &amp; AI Literacy Association
X-ORIGINAL-URL:https://dalahk.org
X-WR-CALDESC:Events for Data &amp; AI Literacy Association
REFRESH-INTERVAL;VALUE=DURATION:PT1H
X-Robots-Tag:noindex
X-PUBLISHED-TTL:PT1H
BEGIN:VTIMEZONE
TZID:Asia/Shanghai
BEGIN:STANDARD
TZOFFSETFROM:+0800
TZOFFSETTO:+0800
TZNAME:CST
DTSTART:20240101T000000
END:STANDARD
END:VTIMEZONE
BEGIN:VEVENT
DTSTART;TZID=Asia/Shanghai:20250515T143000
DTEND;TZID=Asia/Shanghai:20250515T173000
DTSTAMP:20260424T023205
CREATED:20250509T065653Z
LAST-MODIFIED:20250509T090313Z
UID:17278-1747319400-1747330200@dalahk.org
SUMMARY:DALA Event: Transforming Health & Life Sciences - Overcoming Challenges and Harnessing AI for Innovation
DESCRIPTION:We’re excited to announce our forum co-hosted with #HKSTP and in collaboration with #Equinix\, in partnership with the Hong Kong Startup Council 香港初創企業協會. This is your chance to explore how #AI and #data-driven solutions are reshaping healthcare R&D! \n\nDate: May 15\, 2025 (Thu)\nTime: 3:00 – 5:30 PM (Reception starts at 2:30 PM)\nVenue: Hall 04-05\, 2/F Building 10W\, HKSTP\, Shatin\nRegister Now: https://shorturl.at/N2p5hWhat to Expect:\n\nEngaging Panels:\nPanel 1: Discussing the challenges in health & life sciences R&D and innovative solutions.\nPanel 2: Discover how AI-driven solutions are enhancing healthcare today. \nDistinguished #Speakers: \n\n Dr. Toa CHARM Founding Chairman of #DALA\nJoanne Hon (she/her) Managing Director of #Equinix\nProf. Zhao Ni #CUHK\nSam Chu\, PhD. Founder of AiHPC\nEric M. Hui Executive Committee of #HKITIC / Equinix Director\nJimmy Tao Chairman of Hong Kong Startup Council 香港初創企業協會 / BIOTECHNOLOGY AND HEALTHCARE COUNCIL\n#WilliamChan CIO of #CUHK #MedicalCentre\nAaron Lee Group CIO of #ANKH / #ExcoMember of #DALA\nDavid Chan Global Solutions Architect of #Equinix\nAlex Hung #FF of #DALA\n\nJoin us in shaping the future of healthcare! We can’t wait to see you there!
URL:https://dalahk.org/event/dala-event-transforming-health-life-sciences-overcoming-challenges-and-harnessing-ai-for-innovation/
LOCATION:Conference Hall 04-05 2/F\, Building 10W\, Phase 2  hong kong science park
CATEGORIES:Upcoming Events
ATTACH;FMTTYPE=image/jpeg:https://dalahk.org/wp-content/uploads/2025/05/Photo-album-banner.jpg
END:VEVENT
END:VCALENDAR