BEGIN:VCALENDAR
VERSION:2.0
PRODID:-//Data &amp; AI Literacy Association - ECPv6.15.20//NONSGML v1.0//EN
CALSCALE:GREGORIAN
METHOD:PUBLISH
X-ORIGINAL-URL:https://dalahk.org
X-WR-CALDESC:Events for Data &amp; AI Literacy Association
REFRESH-INTERVAL;VALUE=DURATION:PT1H
X-Robots-Tag:noindex
X-PUBLISHED-TTL:PT1H
BEGIN:VTIMEZONE
TZID:Asia/Shanghai
BEGIN:STANDARD
TZOFFSETFROM:+0800
TZOFFSETTO:+0800
TZNAME:CST
DTSTART:20240101T000000
END:STANDARD
END:VTIMEZONE
BEGIN:VEVENT
DTSTART;TZID=Asia/Shanghai:20250307T150000
DTEND;TZID=Asia/Shanghai:20250307T170000
DTSTAMP:20260424T023325
CREATED:20250212T073812Z
LAST-MODIFIED:20250213T064831Z
UID:17107-1741359600-1741366800@dalahk.org
SUMMARY:DALA Members Exclusive: Join Us for a Tour of the Geospatial Lab
DESCRIPTION:You are cordially inviting to an exclusive tour of the Geospatial Lab on March 7\, 2025 (Friday)\, from 3:00-5:00pm! This is a fantastic opportunity to dive into cutting-edge spatial data and learn about best practices in the field. \nTour Highlights:\n\nDiscover the latest innovations & data applications in geospatial technology\nInsightful Sharing Session by Mr. YC Chan\nNetwork with fellow DALA members & industry experts\n\nDon’t miss out on this unique chance to enhance your knowledge and connect with peers! \nOnly for DALA members \nRSVP here to secure your spot: bit.ly/4hM9pqR\nLimited seats available—first come\, first served! \nMore info of GeoLab: https://csdigeolab.gov.hk
URL:https://dalahk.org/event/geospatial-lab-tour/
LOCATION:Millenniumm City Tower 1
CATEGORIES:Upcoming Events
ATTACH;FMTTYPE=image/png:https://dalahk.org/wp-content/uploads/2025/02/DALA-Exclusive-Tour-_-Square.png
END:VEVENT
END:VCALENDAR