BEGIN:VCALENDAR
VERSION:2.0
PRODID:-//Data &amp; AI Literacy Association - ECPv6.15.20//NONSGML v1.0//EN
CALSCALE:GREGORIAN
METHOD:PUBLISH
X-ORIGINAL-URL:https://dalahk.org
X-WR-CALDESC:Events for Data &amp; AI Literacy Association
REFRESH-INTERVAL;VALUE=DURATION:PT1H
X-Robots-Tag:noindex
X-PUBLISHED-TTL:PT1H
BEGIN:VTIMEZONE
TZID:Asia/Shanghai
BEGIN:STANDARD
TZOFFSETFROM:+0800
TZOFFSETTO:+0800
TZNAME:CST
DTSTART:20230101T000000
END:STANDARD
END:VTIMEZONE
BEGIN:VEVENT
DTSTART;TZID=Asia/Shanghai:20241203T160000
DTEND;TZID=Asia/Shanghai:20241203T180000
DTSTAMP:20260424T063509
CREATED:20241122T022232Z
LAST-MODIFIED:20250107T092505Z
UID:16643-1733241600-1733248800@dalahk.org
SUMMARY:Join Us for the DaLa Festive Celebration
DESCRIPTION:𝙅𝙤𝙞𝙣 𝙐𝙨 𝙛𝙤𝙧 𝙩𝙝𝙚 𝘿𝙖𝙇𝙖 𝙁𝙚𝙨𝙩𝙞𝙫𝙚 𝘾𝙚𝙡𝙚𝙗𝙧𝙖𝙩𝙞𝙤𝙣!\nWe are excited to invite our #DaLa members to an exclusive gathering to celebrate the incredible achievements of the DaLa Awards 2024 and the festive Christmas season\nThis is a wonderful opportunity to connect with our advisors\, founding fellows\, and fellow members in a relaxed and joyful atmosphere 🎊. Let’s come together to share ideas\, network\, and toast to our successes! \nDate:     Dec 03\, 2024 (Tue)\nTime:    4pm – 6pm\nVenue:  Amaroni’s New York Italian Restaurant & Café\nLG1-32 Festival Walk\, 80 Tat Chee Avenue\, Kowloon Tong\nRSVP:  https://bit.ly/3ATmRJ5 to secure your spot. \nDon’t miss out on this chance to celebrate and strengthen our DaLa community. We look forward to seeing you there!
URL:https://dalahk.org/event/join-us-for-the-dala-festive-celebration/
LOCATION:Amaroni’s New York Italian Restaurant & Café
CATEGORIES:Upcoming Events
ATTACH;FMTTYPE=image/png:https://dalahk.org/wp-content/uploads/2024/11/Dala-member-Networking.png
END:VEVENT
END:VCALENDAR