BEGIN:VCALENDAR
VERSION:2.0
PRODID:-//Data &amp; AI Literacy Association - ECPv6.15.20//NONSGML v1.0//EN
CALSCALE:GREGORIAN
METHOD:PUBLISH
X-ORIGINAL-URL:https://dalahk.org
X-WR-CALDESC:Events for Data &amp; AI Literacy Association
REFRESH-INTERVAL;VALUE=DURATION:PT1H
X-Robots-Tag:noindex
X-PUBLISHED-TTL:PT1H
BEGIN:VTIMEZONE
TZID:Asia/Shanghai
BEGIN:STANDARD
TZOFFSETFROM:+0800
TZOFFSETTO:+0800
TZNAME:CST
DTSTART:20230101T000000
END:STANDARD
END:VTIMEZONE
BEGIN:VEVENT
DTSTART;TZID=Asia/Shanghai:20241024T083000
DTEND;TZID=Asia/Shanghai:20241024T170000
DTSTAMP:20260424T093934
CREATED:20241018T084110Z
LAST-MODIFIED:20250107T092519Z
UID:16843-1729758600-1729789200@dalahk.org
SUMMARY:DaLa fully supports CDO Hong Kong Innovation Forum
DESCRIPTION:CDOs in Hong Kong are facing an escalating demand for flexibility and adaptability in integrating technology\, optimizing resources and selecting alternative growth paths in alignment with corporate objectives. Digital executives are responsible for ensuring that technology is integrated seamlessly into various aspects of the organization to enhance efficiency\, productivity and customer experiences – especially in an era of enterprise operations where AI integration is pervading all expansion discussions.\n\nOur founding Chairman\, Dr. Charm\, invited by CDO HK Innovation Forum to share insights in a session titled ‘Monetizing Data Assets: How D&A Leaders Can Deliver Incremental Value.’ \nDate and Time:\nThursday\, October 24\, 2024\n10:45 AM – 11:15 AM HKT \nKey Topics Covered: \n\nSupporting product development initiatives through market-aligned solutions\nOptimizing processes and costs of development and enterprise operations\nAdvocating the value of the data function and exploring strategies for communicating this value to decision-makers\nPersonalized CX: How digital leaders can derive incremental value from data\n\n\nHere is the event information:\nAgenda | CDO Innovation Hong Kong
URL:https://dalahk.org/event/dala-fully-supports-cdo-hong-kong-innovation-forum/
LOCATION:The Ballroom\, Cordis Hotel 555 Shanghai Street\, Mong Kok Directions to Cordis Hotel\, Hong Kong\, Cordis Hotel 555 Shanghai Street\, Mong Kok\, Hong Kong
CATEGORIES:Upcoming Events
ATTACH;FMTTYPE=image/png:https://dalahk.org/wp-content/uploads/2025/01/10.24.png
END:VEVENT
END:VCALENDAR