BEGIN:VCALENDAR
VERSION:2.0
PRODID:-//Data &amp; AI Literacy Association - ECPv6.15.20//NONSGML v1.0//EN
CALSCALE:GREGORIAN
METHOD:PUBLISH
X-ORIGINAL-URL:https://dalahk.org
X-WR-CALDESC:Events for Data &amp; AI Literacy Association
REFRESH-INTERVAL;VALUE=DURATION:PT1H
X-Robots-Tag:noindex
X-PUBLISHED-TTL:PT1H
BEGIN:VTIMEZONE
TZID:Asia/Shanghai
BEGIN:STANDARD
TZOFFSETFROM:+0800
TZOFFSETTO:+0800
TZNAME:CST
DTSTART:20230101T000000
END:STANDARD
END:VTIMEZONE
BEGIN:VEVENT
DTSTART;TZID=Asia/Shanghai:20241018T093000
DTEND;TZID=Asia/Shanghai:20241018T170000
DTSTAMP:20260424T093952
CREATED:20240925T015751Z
LAST-MODIFIED:20250107T092614Z
UID:16216-1729243800-1729270800@dalahk.org
SUMMARY:DaLa fully supports V-Transform Expo 2024
DESCRIPTION:DaLa fully supports V-Transform Expo 2024\, where digital transformations come to life! This is your chance to connect with industry leaders and explore the latest innovations across China’s Greater Bay Area. \n📅 Date:        18 October 2024 (Friday)\n📍 Location:  4th Floor\, Macau Tower\n🔗 Register:  https://2vx.co/jUQtcHB \nWhy You Should Attend: \n🔹 Exclusive Insights: Learn from the best through engaging keynote speeches\, panel discussions\, and delegate interactions.\n🔹 Networking: Meet and connect with influential professionals and decision-makers.\n🔹 Interactive Experiences: Immerse yourself in the latest digital entertainment and interactive technologies.\n🔹 Investment Hub: Explore new opportunities to receive funding and professional advice. \nKeynote Speakers from Singapore\, Hong Kong\, Hangzhou\, Beijing\, and more: \nDr. Charleston Sin\nDr. Ren Yongjian\nMr. Richard Wei\nDr. Toa Charm\nMr. Tom Goh\nMr. Tan XiaoSheng \nAnd many more to be announced soon! \nExciting Topics (Join to find out more): \nFrom Concept to Commercialization: \nTransforming Research into Market-Ready AI Voice Innovations\nAI Empowered Cybersecurity Defense in China\n2024: The Year of Compliance – Navigating the New Landscape of Mandatory ESG Disclosures\nLeveraging AI for Competitive Advantage: Beyond Automation\nDriving Digital Innovation: Unleashing the Power of Cybersecurity\, Automation\, and AI \nDon’t miss Macau’s only expo dedicated to pioneering digital transformation! Register now and be part of the future of digital transformation.
URL:https://dalahk.org/event/vtransform-expo-2024/
LOCATION:4th Floor\, Macau Tower
CATEGORIES:Upcoming Events
ATTACH;FMTTYPE=image/png:https://dalahk.org/wp-content/uploads/2024/10/KV.png
END:VEVENT
END:VCALENDAR