BEGIN:VCALENDAR
VERSION:2.0
PRODID:-//Data &amp; AI Literacy Association - ECPv6.15.20//NONSGML v1.0//EN
CALSCALE:GREGORIAN
METHOD:PUBLISH
X-WR-CALNAME:Data &amp; AI Literacy Association
X-ORIGINAL-URL:https://dalahk.org
X-WR-CALDESC:Events for Data &amp; AI Literacy Association
REFRESH-INTERVAL;VALUE=DURATION:PT1H
X-Robots-Tag:noindex
X-PUBLISHED-TTL:PT1H
BEGIN:VTIMEZONE
TZID:Asia/Shanghai
BEGIN:STANDARD
TZOFFSETFROM:+0800
TZOFFSETTO:+0800
TZNAME:CST
DTSTART:20230101T000000
END:STANDARD
END:VTIMEZONE
BEGIN:VEVENT
DTSTART;TZID=Asia/Shanghai:20240803T090000
DTEND;TZID=Asia/Shanghai:20240803T130000
DTSTAMP:20260424T121420
CREATED:20240725T032523Z
LAST-MODIFIED:20250107T092905Z
UID:15912-1722675600-1722690000@dalahk.org
SUMMARY:DaLa fully supports the "Get Hong Kong ready for a Professional Hub on Smart Procurement and Fulfillment International Conference"
DESCRIPTION:DaLa fully supports the “Get Hong Kong ready for a Professional Hub on Smart Procurement and Fulfillment International Conference” organized by The Institute of Purchasing & Supply of Hong Kong (IPSHK) and Hong Kong Productivity Council (HKPC). \nThanks to the organizers’ invitation\, DaLa’s founding chairman Dr. Charm is pleased to share insights on “Empowering the procurement and supply industry with AI and Big Data” in his keynote speech. \nThis conference will bring together industry professionals\, academics\, digital transformation representatives\, industry leaders and executives in procurement and supply management from the international Asia Pacific region and Hong Kong. They will analyze the successful tips in digital transformation and infrastructure applications for the industry and relevant stakeholders\, explore challenges and opportunities\, leverage technology to achieve synergies\, and enable business transformation. Industry players and interested parties are welcome to register. \nEvent Details:\nDate: 3 August 2024 (Saturday)\nTime: 09:00 – 13:00\nVenue: Meeting Room S421\, L4\, Hong Kong Convention and Exhibition Centre\nAdmission: Free of charge\nRegistration: https://www.ipshk.org/event/event-list/the_50th_anniversary_of_ipshk_luncheon.html
URL:https://dalahk.org/event/dala-fully-supports-the-get-hong-kong-ready-for-a-professional-hub-on-smart-procurement-and-fulfillment-international-conference/
LOCATION:Meeting Room S421\, L4\, Hong Kong Convention and Exhibition Centre
CATEGORIES:Upcoming Events
ATTACH;FMTTYPE=image/jpeg:https://dalahk.org/wp-content/uploads/2024/07/1720920653316.jpg
END:VEVENT
END:VCALENDAR