BEGIN:VCALENDAR
VERSION:2.0
PRODID:-//Data &amp; AI Literacy Association - ECPv6.15.20//NONSGML v1.0//EN
CALSCALE:GREGORIAN
METHOD:PUBLISH
X-ORIGINAL-URL:https://dalahk.org
X-WR-CALDESC:Events for Data &amp; AI Literacy Association
REFRESH-INTERVAL;VALUE=DURATION:PT1H
X-Robots-Tag:noindex
X-PUBLISHED-TTL:PT1H
BEGIN:VTIMEZONE
TZID:Asia/Shanghai
BEGIN:STANDARD
TZOFFSETFROM:+0800
TZOFFSETTO:+0800
TZNAME:CST
DTSTART:20230101T000000
END:STANDARD
END:VTIMEZONE
BEGIN:VEVENT
DTSTART;TZID=Asia/Shanghai:20240718T133000
DTEND;TZID=Asia/Shanghai:20240718T170000
DTSTAMP:20260424T132051
CREATED:20240717T145828Z
LAST-MODIFIED:20250107T092945Z
UID:15855-1721309400-1721322000@dalahk.org
SUMMARY:Kingdee Digital Intelligence Summit
DESCRIPTION:DaLa fully Kingdee Digital Intelligence Summit on July 18th at the Cordis Hotel in Hong Kong. This highly anticipated event will center around the discussion of the profound impact of Artificial Intelligence (AI) and digital transformation. As a supporting organisation\, we invite you to join the event to explore industry-specific application solutions\, their success stories\, and the invaluable expert insights and recommendations. \n\n\nEvent Details \nDate: 18th July\, 2024\nTime: 13:30 to 17:00 (Registration starts at 13:00)\nVenue: 7/F Cordis Hotel\, Hong Kong\nLanguage: Cantonese\, Mandarin\, English\nPls registration: Kingdee Digital Intelligence Summit \n\n\n\n\nEvent Highlights\n• Keynote speeches and roundtable sessions\, interactive communication\n• Complete designated tasks to obtain Kingdee 2024 limited edition gifts\n• AI develops new technologies\, business matching\, free communication\n• Multiple AI/digital transformation partner booths Free consultation
URL:https://dalahk.org/event/kingdee-digital-intelligence-summit/
LOCATION:The Ballroom\, Cordis Hotel 555 Shanghai Street\, Mong Kok Directions to Cordis Hotel\, Hong Kong\, Cordis Hotel 555 Shanghai Street\, Mong Kok\, Hong Kong
CATEGORIES:Upcoming Events
ATTACH;FMTTYPE=image/jpeg:https://dalahk.org/wp-content/uploads/2024/07/Kingdee-Guests-of-Honour.jpeg
END:VEVENT
END:VCALENDAR