BEGIN:VCALENDAR
VERSION:2.0
PRODID:-//Data &amp; AI Literacy Association - ECPv6.15.20//NONSGML v1.0//EN
CALSCALE:GREGORIAN
METHOD:PUBLISH
X-WR-CALNAME:Data &amp; AI Literacy Association
X-ORIGINAL-URL:https://dalahk.org
X-WR-CALDESC:Events for Data &amp; AI Literacy Association
REFRESH-INTERVAL;VALUE=DURATION:PT1H
X-Robots-Tag:noindex
X-PUBLISHED-TTL:PT1H
BEGIN:VTIMEZONE
TZID:Asia/Shanghai
BEGIN:STANDARD
TZOFFSETFROM:+0800
TZOFFSETTO:+0800
TZNAME:CST
DTSTART:20230101T000000
END:STANDARD
END:VTIMEZONE
BEGIN:VEVENT
DTSTART;TZID=Asia/Shanghai:20240711T103000
DTEND;TZID=Asia/Shanghai:20240711T130000
DTSTAMP:20260424T131959
CREATED:20240627T080707Z
LAST-MODIFIED:20250107T093137Z
UID:15786-1720693800-1720702800@dalahk.org
SUMMARY:CEO Insights on AI: Embracing Chaos and Driving Excellence Powered by DaLa
DESCRIPTION:How can Business Leaders Master the Opportunities and Challenges Brought on by AI? \n🔥Register for your exhibition visit now! ➤ https://bit.ly/3V0Ee0t\nArtificial intelligence (AI) technology is poised to bring huge commercial value to enterprises – but at the potential cost of information security worries and challenges.\nIn the wake of the new AI era\, businesses must prepare for reshuffling 🃏 and disruption of the market.\nHow should companies respond to this new shift and not risk falling behind?\n⭐Join us at the BUSINESS GOVirtual Technology Expo 2024 as we discuss current AI trends and areas where enterprises may discover major breakthroughs. \n〖2024.7.11〗\n10:15-13:00\nTopic: CEO Insights on AI: Embracing Chaos and Driving Excellence\nPowered by Data Literacy Association\nLanguage: English \nModerator:\n• Dr. Toa CHARM\, Founding Chairman\, Data Literacy Association \nPanelists:\n• Ms. Aveline San\, CEO and Head of Banking\, Hong Kong & Macau\, Citi\n• Mr. Jens-Peter Brauner\, FIET\, CEO\, Siemens Mobility Hong Kong\n• Mr. Lawrence Lam\, CEO\, Prudential Hong Kong\n• Mr. Sheldon Li\, CEO & Co-founder\, Buyandship \nRegister for your exhibition visit now! ➤ https://bit.ly/3V0Ee0t \n𝗕𝗨𝗦𝗜𝗡𝗘𝗦𝗦 𝗚𝗢𝗩𝗶𝗿𝘁𝘂𝗮𝗹 𝗘𝘅𝗽𝗼 & 𝗖𝗼𝗻𝗳𝗲𝗿𝗲𝗻𝗰𝗲 𝟮𝟬𝟮𝟰\nᴇxᴘᴏ｜ᴄᴏɴꜰᴇʀᴇɴᴄᴇ｜ᴛᴇᴄʜ ᴀᴡᴀʀᴅꜱ\n🗓️July 11-12\, 2024\n📍Hong Kong Convention and Exhibition Centre Exhibition Hall 3FG\n🌐govirtualexpohk.com\n📞(852) 3520 3186
URL:https://dalahk.org/event/ceo-insights-on-ai-embracing-chaos-and-driving-excellence-powered-by-dala/
LOCATION:The Community Lab\, 24/F\, Lee Garden Five\, 18 Hysan Avenue\, Causeway Bay\, Hong Kong
CATEGORIES:Upcoming Events
ATTACH;FMTTYPE=image/jpeg:https://dalahk.org/wp-content/uploads/2024/06/BGOV_social-media_CNpink-scaled.jpg
END:VEVENT
END:VCALENDAR