BEGIN:VCALENDAR
VERSION:2.0
PRODID:-//Data &amp; AI Literacy Association - ECPv6.15.20//NONSGML v1.0//EN
CALSCALE:GREGORIAN
METHOD:PUBLISH
X-ORIGINAL-URL:https://dalahk.org
X-WR-CALDESC:Events for Data &amp; AI Literacy Association
REFRESH-INTERVAL;VALUE=DURATION:PT1H
X-Robots-Tag:noindex
X-PUBLISHED-TTL:PT1H
BEGIN:VTIMEZONE
TZID:Asia/Shanghai
BEGIN:STANDARD
TZOFFSETFROM:+0800
TZOFFSETTO:+0800
TZNAME:CST
DTSTART:20230101T000000
END:STANDARD
END:VTIMEZONE
BEGIN:VEVENT
DTSTART;TZID=Asia/Shanghai:20240529T090000
DTEND;TZID=Asia/Shanghai:20240529T170000
DTSTAMP:20260424T143844
CREATED:20240521T032954Z
LAST-MODIFIED:20250107T093300Z
UID:15592-1716973200-1717002000@dalahk.org
SUMMARY:2024 SAP NOW Hong Kong - Bring Out Your Best: SAP Business AI
DESCRIPTION:We are fully support 2024 SAP NOW Hong Kong – Bring Out Your Best: SAP Business AI \nREGISTER NOW!\nDate: May 29\, 2024\, Wednesday\nTime: 09am – 17pm\nVenue: Hong Kong Ocean Park Marriott Hotel\nWebsite: https://go12.events.sap.com/hk/sapnow2024/agenda/ \nRegistration Link: https://go12.events.sap.com/hk/sapnow2024/?pk_source=association&pk_campaign=dala
URL:https://dalahk.org/event/2024-sap-now-hong-kong-bring-out-your-best-sap-business-ai/
LOCATION:Hong Kong Ocean Park Marriott Hotel
CATEGORIES:Upcoming Events
ATTACH;FMTTYPE=image/png:https://dalahk.org/wp-content/uploads/2024/05/SAP-May-29.png
END:VEVENT
END:VCALENDAR