BEGIN:VCALENDAR
VERSION:2.0
PRODID:-//Data &amp; AI Literacy Association - ECPv6.15.20//NONSGML v1.0//EN
CALSCALE:GREGORIAN
METHOD:PUBLISH
X-ORIGINAL-URL:https://dalahk.org
X-WR-CALDESC:Events for Data &amp; AI Literacy Association
REFRESH-INTERVAL;VALUE=DURATION:PT1H
X-Robots-Tag:noindex
X-PUBLISHED-TTL:PT1H
BEGIN:VTIMEZONE
TZID:Asia/Shanghai
BEGIN:STANDARD
TZOFFSETFROM:+0800
TZOFFSETTO:+0800
TZNAME:CST
DTSTART:20230101T000000
END:STANDARD
END:VTIMEZONE
BEGIN:VEVENT
DTSTART;TZID=Asia/Shanghai:20240527T123000
DTEND;TZID=Asia/Shanghai:20240527T133000
DTSTAMP:20260424T143850
CREATED:20240509T061049Z
LAST-MODIFIED:20250107T093217Z
UID:15574-1716813000-1716816600@dalahk.org
SUMMARY:Leveraging Data and Gen AI in your ESG Journey
DESCRIPTION:Join us for an insightful session at the upcoming Education Luncheon organised by CFA Society HK on May 27. We are thrilled to have two esteemed founding fellows Calvin Cheng\, CFA Founder & CEO of Wizpresso 濃說\, and Dr. Jacob Wai\, as well as 2 guest speakers\, who will share the dynamic role of #AI in the finance industry\, shedding light on how it can enhance ESG practices and drive positive impact. \n👤 Dr. Pooja Khosla\, CEO\, Entelligent\n👤 Mr. Calvin Cheng\, CFA\, Founder & CEO\, Wizpresso\n👤 Dr. Jacob Wai\, Founding Fellow\, Convenor – Governance Committee\, DaLa\n👤 Mr. Tim Chan\, CFA\, Head of the ESG pillar\, Continuing Education Committee\, CFA Society Hong Kong (Moderator) \nFor more details and registration\, please visit 👉 https://bit.ly/3WymMDc
URL:https://dalahk.org/event/the-9th-cloud-forum-gen-ai-reshaping-the-future-cloudscape-2/
LOCATION:CFA Society Hong Kong\, 14/F\, BOC Group Life Assurance Tower\, 136 Des Voeux Road Central\, Hong Kong
CATEGORIES:Upcoming Events
ATTACH;FMTTYPE=image/jpeg:https://dalahk.org/wp-content/uploads/2024/05/Screenshot_9-5-2024_141327_www.linkedin.com_.jpeg
END:VEVENT
END:VCALENDAR