BEGIN:VCALENDAR
VERSION:2.0
PRODID:-//Data &amp; AI Literacy Association - ECPv6.15.20//NONSGML v1.0//EN
CALSCALE:GREGORIAN
METHOD:PUBLISH
X-ORIGINAL-URL:https://dalahk.org
X-WR-CALDESC:Events for Data &amp; AI Literacy Association
REFRESH-INTERVAL;VALUE=DURATION:PT1H
X-Robots-Tag:noindex
X-PUBLISHED-TTL:PT1H
BEGIN:VTIMEZONE
TZID:Asia/Shanghai
BEGIN:STANDARD
TZOFFSETFROM:+0800
TZOFFSETTO:+0800
TZNAME:CST
DTSTART:20230101T000000
END:STANDARD
END:VTIMEZONE
BEGIN:VEVENT
DTSTART;VALUE=DATE:20240419
DTEND;VALUE=DATE:20240420
DTSTAMP:20260424T170357
CREATED:20240326T061334Z
LAST-MODIFIED:20250107T093429Z
UID:15394-1713484800-1713571199@dalahk.org
SUMMARY:2024 TransUnion Hong Kong Financial Services Summit The Growth Imperative: Capitalising on Emerging Opportunities
DESCRIPTION:We are delighted to inform you that our esteemed DaLa founding chairman\, Dr. Charm\, will be a speaker on “Leveraging Artificial Intelligence to Empower Next Gen Financial Services (with fireside chat)”on April 19\, 2024\, share an insightful overview discerning the actual impacts of AI from the prevalent hype. \n\nJoin us at the event to equip with knowledge to navigate the complex interplay of innovation and regulation in this evolving landscape. \nLooking forward to seeing you there! \nCheck the event details:Financial Services Summit: HK 2024 | TransUnion
URL:https://dalahk.org/event/2024-transunion-hong-kong-financial-services-summit-the-growth-imperative-capitalising-on-emerging-opportunities/
LOCATION:Hyatt Regency Hotel\, TST
CATEGORIES:Upcoming Events
ATTACH;FMTTYPE=image/jpeg:https://dalahk.org/wp-content/uploads/2024/03/banner.jpg
END:VEVENT
END:VCALENDAR