BEGIN:VCALENDAR
VERSION:2.0
PRODID:-//Data &amp; AI Literacy Association - ECPv6.15.20//NONSGML v1.0//EN
CALSCALE:GREGORIAN
METHOD:PUBLISH
X-ORIGINAL-URL:https://dalahk.org
X-WR-CALDESC:Events for Data &amp; AI Literacy Association
REFRESH-INTERVAL;VALUE=DURATION:PT1H
X-Robots-Tag:noindex
X-PUBLISHED-TTL:PT1H
BEGIN:VTIMEZONE
TZID:Asia/Shanghai
BEGIN:STANDARD
TZOFFSETFROM:+0800
TZOFFSETTO:+0800
TZNAME:CST
DTSTART:20230101T000000
END:STANDARD
END:VTIMEZONE
BEGIN:VEVENT
DTSTART;VALUE=DATE:20240327
DTEND;VALUE=DATE:20240329
DTSTAMP:20260424T182349
CREATED:20240226T035932Z
LAST-MODIFIED:20240226T041440Z
UID:14818-1711497600-1711670399@dalahk.org
SUMMARY:Asian Knowledge and Innovation Forum (AKIF) 2024: Generative AI – Transforming Knowledge Management and Innovation
DESCRIPTION:We are thrilled to announce that DaLa is proud to be a supporting organization of the Asian Knowledge and Innovation Forum (AKIF) 2024: Generative AI – Transforming Knowledge Management and Innovation\, happening on March 27-28\, 2024. This highly anticipated annual event provides a unique platform for professionals in management and organizational development to exchange knowledge\, expertise\, and experiences. It’s also a great opportunity to recognize and celebrate innovators with their groundbreaking strategies and practices. \nWe are delighted to inform you that our esteemed DaLa founding chairman\, Dr. Charm\, will be moderating a key panel discussion on “navigating generative AI in the business landscape.” Additionally\, our founding fellow\, Ravel Lai\, will be one of the speakers\, sharing valuable insights on harnessing the power of AI to unlock business potential. \nJoin us at the event to explore the transformative power of generative AI in knowledge management and innovation. It’s an invaluable opportunity to connect with like-minded professionals who share a passion for leveraging AI to drive business success. \nLooking forward to seeing you there! \nCheck the event details: Asian Knowledge and Innovation Forum (AKIF)
URL:https://dalahk.org/event/asian-knowledge-and-innovation-forum-akif-2024-generative-ai-transforming-knowledge-management-and-innovation/
LOCATION:The Ballroom\, Cordis Hotel 555 Shanghai Street\, Mong Kok Directions to Cordis Hotel\, Hong Kong\, Cordis Hotel 555 Shanghai Street\, Mong Kok\, Hong Kong
CATEGORIES:Upcoming Events
ATTACH;FMTTYPE=image/jpeg:https://dalahk.org/wp-content/uploads/2024/02/KV-1.jpg
END:VEVENT
END:VCALENDAR