BEGIN:VCALENDAR
VERSION:2.0
PRODID:-//Data &amp; AI Literacy Association - ECPv6.15.20//NONSGML v1.0//EN
CALSCALE:GREGORIAN
METHOD:PUBLISH
X-WR-CALNAME:Data &amp; AI Literacy Association
X-ORIGINAL-URL:https://dalahk.org
X-WR-CALDESC:Events for Data &amp; AI Literacy Association
REFRESH-INTERVAL;VALUE=DURATION:PT1H
X-Robots-Tag:noindex
X-PUBLISHED-TTL:PT1H
BEGIN:VTIMEZONE
TZID:Asia/Shanghai
BEGIN:STANDARD
TZOFFSETFROM:+0800
TZOFFSETTO:+0800
TZNAME:CST
DTSTART:20230101T000000
END:STANDARD
END:VTIMEZONE
BEGIN:VEVENT
DTSTART;TZID=Asia/Shanghai:20240202T150000
DTEND;TZID=Asia/Shanghai:20240202T180000
DTSTAMP:20260424T193804
CREATED:20240226T061035Z
LAST-MODIFIED:20240226T061121Z
UID:14838-1706886000-1706896800@dalahk.org
SUMMARY:2024 Marketing and Advertising Strategies: Data Analytics and Generative AI
DESCRIPTION:DaLa is proud to be a supporting organization for the EJ Media Lab – 2024 Marketing and Advertisement Strategies: Data Analytics and Generative AI.\nWe believe that strong data literacy empowers professionals to effectively leverage data analytics and generative AI techniques in Marketing and Advertising services\, fostering innovation and driving success.
URL:https://dalahk.org/event/2024-marketing-and-advertising-strategies-data-analytics-and-generative-ai/
CATEGORIES:Upcoming Events
ATTACH;FMTTYPE=image/png:https://dalahk.org/wp-content/uploads/2024/02/KV.png
END:VEVENT
END:VCALENDAR