BEGIN:VCALENDAR
VERSION:2.0
PRODID:-//Data &amp; AI Literacy Association - ECPv6.15.20//NONSGML v1.0//EN
CALSCALE:GREGORIAN
METHOD:PUBLISH
X-WR-CALNAME:Data &amp; AI Literacy Association
X-ORIGINAL-URL:https://dalahk.org
X-WR-CALDESC:Events for Data &amp; AI Literacy Association
REFRESH-INTERVAL;VALUE=DURATION:PT1H
X-Robots-Tag:noindex
X-PUBLISHED-TTL:PT1H
BEGIN:VTIMEZONE
TZID:Asia/Shanghai
BEGIN:STANDARD
TZOFFSETFROM:+0800
TZOFFSETTO:+0800
TZNAME:CST
DTSTART:20230101T000000
END:STANDARD
END:VTIMEZONE
BEGIN:VEVENT
DTSTART;TZID=Asia/Shanghai:20240110T090000
DTEND;TZID=Asia/Shanghai:20240110T170000
DTSTAMP:20260424T210354
CREATED:20240226T055929Z
LAST-MODIFIED:20240226T060109Z
UID:14833-1704877200-1704906000@dalahk.org
SUMMARY:IOT Data Hackathon 2024
DESCRIPTION:DaLa is excited to support the GS1 IoT Data Hackathon 2024\, bringing together young innovators\, problem solvers\, and data enthusiasts in Hong Kong. This platform empowers participants to leverage IoT data and develop impactful solutions for real-world business challenges. Join us for an adventure in hands-on Internet-of-Things technologies\, problem-solving\, and networking with talented individuals. This two-month experience will undoubtedly contribute to your personal growth and career. \n  \n \n 
URL:https://dalahk.org/event/iot-data-hackathon-2024/
CATEGORIES:Upcoming Events
ATTACH;FMTTYPE=image/jpeg:https://dalahk.org/wp-content/uploads/2024/02/KV-2.jpg
END:VEVENT
END:VCALENDAR