BEGIN:VCALENDAR
VERSION:2.0
PRODID:-//Data &amp; AI Literacy Association - ECPv6.15.20//NONSGML v1.0//EN
CALSCALE:GREGORIAN
METHOD:PUBLISH
X-ORIGINAL-URL:https://dalahk.org
X-WR-CALDESC:Events for Data &amp; AI Literacy Association
REFRESH-INTERVAL;VALUE=DURATION:PT1H
X-Robots-Tag:noindex
X-PUBLISHED-TTL:PT1H
BEGIN:VTIMEZONE
TZID:Asia/Shanghai
BEGIN:STANDARD
TZOFFSETFROM:+0800
TZOFFSETTO:+0800
TZNAME:CST
DTSTART:20250101T000000
END:STANDARD
END:VTIMEZONE
BEGIN:VEVENT
DTSTART;VALUE=DATE:20260319
DTEND;VALUE=DATE:20260320
DTSTAMP:20260424T132229
CREATED:20260120T090945Z
LAST-MODIFIED:20260216T044537Z
UID:17971-1773878400-1773964799@dalahk.org
SUMMARY:DALA fully supports MarketingPulse & eTailingPulse 2026
DESCRIPTION:Join MarketingPulse & eTailingPulse for an unparalleled experience where industry leaders converge to explore the future of marketing and e-commerce! \nGrowth Leaders: Discover strategies from top executives of renowned brands including #LVMH\, #OliveYoung\, #Atour who are shaping the future of business growth in the dynamic global and local markets. \nNew Horizons in E-commerce: Dive into innovative trends of quick commerce and agentic AI that are reshaping the landscape of online shopping\, maximising consumer engagement from internet & tech giant #Tencent and the leading e-commerce platform #Taobao & #Tmall. \nCutting-Edge Marketing Dynamics: Learn about the latest trend\, healing economy and IP marketing from the founder of #Noodoll\, a vibrant rival of #Jellycat create experiences and products that resonate deeply and inspire lasting engagement\, and hear the revolutionising marketing tactics and opportunities of the global wave of micro dramas. \nSocial Media Best Practices: Elevate your digital marketing game with expert tips from #Meta and actor and threads influencer #NgSiuHin on leveraging social media for brand success. \nPR Disasters and Opportunities: Examine real-world case studies such as the Coldplay concert kisscam scandal that highlight the importance of today’s fast-paced communications landscape. \nAlso join our Meet the Leader Series – In Dialogue with Louis Cheung – Chasing the Golden Boy Within for an inspiring conversation on Cheung’s compelling journey behind his multi-layered career across acting\, music and creative production. \nRegister your discounted passes here: \nhttps://info.hktdc.com/sp/mp/en/registration?promoCode=TLGF4PK28.  \nto enjoy 40% off promotion code: TLGF4PK28 \n📅 19 March 2026 \n📍 Venue: HKCEC \nMarketingPulse x eTailingPulse: https://marketingpulse.com.hk
URL:https://dalahk.org/event/dala-executive-lunch-learn-series-of-2026/
CATEGORIES:Upcoming Events
ATTACH;FMTTYPE=image/png:https://dalahk.org/wp-content/uploads/2026/02/Screenshot-2026-02-16-at-12.32.16.png
END:VEVENT
BEGIN:VEVENT
DTSTART;TZID=Asia/Shanghai:20260331T143000
DTEND;TZID=Asia/Shanghai:20260331T180000
DTSTAMP:20260424T132229
CREATED:20260226T053705Z
LAST-MODIFIED:20260226T053826Z
UID:18124-1774967400-1774980000@dalahk.org
SUMMARY:DALA's Support for AI Security and Cybersecurity Summit
DESCRIPTION:We are pleased to announce that DALA fully supports the PCPD and HKIRC in co-organizing the “AI Security and Cybersecurity Summit for Enterprises” on 31 March 2026. Registration is now open to all sectors! \nWith the Digital Policy Office acting as a strategic partner\, the Summit will feature two key thematic areas – “AI Security” and “Cybersecurity”\, each presenting dedicated keynote presentations and panel discussions. The event will bring together leading experts\, industry leaders\, policymakers and company directors to explore the evolving AI security and cybersecurity threat landscape\, exchange innovative solutions\, and share insights into strengthening cybersecurity and data protection in the age of AI. \nThe Summit is free of charge and open for registration on a first-come first-served basis. For details\, please visit the event website https://www.pcpd.org.hk/ai_cybersecurity_summit/en/index.html  \nInterested parties are requested to complete and submit the online registration form on the Summit website by 5:00 pm on 27 March 2026 (Friday).
URL:https://dalahk.org/event/dalas-support-for-ai-security-and-cybersecurity-summit/
LOCATION:Meeting Rooms S221–230\, 2/F Hong Kong Convention & Exhibition Centre (Old Wing)
CATEGORIES:Upcoming Events
ATTACH;FMTTYPE=image/png:https://dalahk.org/wp-content/uploads/2026/02/Screenshot-2026-02-26-at-13.19.33.png
END:VEVENT
END:VCALENDAR