BEGIN:VCALENDAR
VERSION:2.0
PRODID:-//Data &amp; AI Literacy Association - ECPv6.15.20//NONSGML v1.0//EN
CALSCALE:GREGORIAN
METHOD:PUBLISH
X-ORIGINAL-URL:https://dalahk.org
X-WR-CALDESC:Events for Data &amp; AI Literacy Association
REFRESH-INTERVAL;VALUE=DURATION:PT1H
X-Robots-Tag:noindex
X-PUBLISHED-TTL:PT1H
BEGIN:VTIMEZONE
TZID:Asia/Shanghai
BEGIN:STANDARD
TZOFFSETFROM:+0800
TZOFFSETTO:+0800
TZNAME:CST
DTSTART:20240101T000000
END:STANDARD
END:VTIMEZONE
BEGIN:VEVENT
DTSTART;VALUE=DATE:20251210
DTEND;VALUE=DATE:20251221
DTSTAMP:20260424T093632
CREATED:20251210T144053Z
LAST-MODIFIED:20260112T032551Z
UID:17945-1765324800-1766275199@dalahk.org
SUMMARY:DALA fully supports IOT Data Hackathon 2026
DESCRIPTION:#DALA is proud to support the IOT Data Hackathon 2026 – organised by GS1 Hong Kong in collaboration with Hong Kong Cyberport and HKSTP\, and supported by the Digital Policy Office (DPO) – warmly invites the brightest minds\, from tertiary students and young innovators to seasoned professionals and entrepreneurs\, to harness the power of real-world IoT data.The Hackathon is to empower you to harness the power of real-world data to develop tangible solutions. \nWhy Join Us?  \n\nFoster career development and explore potential collaboration with the challenge statement providers\nShowcase your expertise\, build your professional profile\, and win prizes by working on real world business problems\n• Get Connected: Network and meet industry leaders\, tech experts to expand your network\nGain Brand Exposure & Win Recognition\n\nStreams \n\nProfessional: Startups\, Entrepreneurs or Business Professionals in Hong Kong\nStudent Stream: Students from Hong Kong Tertiary Institutions (campus inside and/or outside Hong Kong)\n\nPlease visit our webpage www.gs1hk.org/iotdatahackathon and to apply before the application deadline 20 Dec 2025
URL:https://dalahk.org/event/dala-fully-supports-iot-data-hackathon-2026/
CATEGORIES:Upcoming Events
ATTACH;FMTTYPE=image/png:https://dalahk.org/wp-content/uploads/2025/12/Screenshot-2026-01-07-at-22.38.56-scaled.png
END:VEVENT
BEGIN:VEVENT
DTSTART;TZID=Asia/Shanghai:20251217T160000
DTEND;TZID=Asia/Shanghai:20251217T180000
DTSTAMP:20260424T093632
CREATED:20251207T045236Z
LAST-MODIFIED:20260107T050301Z
UID:17864-1765987200-1765994400@dalahk.org
SUMMARY:New Trends in Smart Retail Digital Transformation:  Develop Effective Custmer Engagement Strategies powered by DALA
DESCRIPTION:🚀 𝗝𝗼𝗶𝗻 𝗨𝘀 𝗳𝗼𝗿 𝗮𝗻 𝗘𝘅𝗰𝗶𝘁𝗶𝗻𝗴 𝗙𝗼𝗿𝘂𝗺 𝗼𝗻 𝗥𝗲𝘁𝗮𝗶𝗹 𝗜𝗻𝗻𝗼𝘃𝗮𝘁𝗶𝗼𝗻! 🚀 \nWe invite you to the upcoming forum in the “AI & Big Data Driving Retail Innovation” series: 𝗡𝗲𝘄 𝗧𝗿𝗲𝗻𝗱𝘀 𝗶𝗻 𝗦𝗺𝗮𝗿𝘁 𝗥𝗲𝘁𝗮𝗶𝗹 𝗗𝗶𝗴𝗶𝘁𝗮𝗹 𝗧𝗿𝗮𝗻𝘀𝗳𝗼𝗿𝗺𝗮𝘁𝗶𝗼𝗻: 𝗗𝗲𝘃𝗲𝗹𝗼𝗽 𝗘𝗳𝗳𝗲𝗰𝘁𝗶𝘃𝗲 𝗖𝘂𝘀𝘁𝗼𝗺𝗲𝗿 𝗘𝗻𝗴𝗮𝗴𝗲𝗺𝗲𝗻𝘁 𝗦𝘁𝗿𝗮𝘁𝗲𝗴𝗶𝗲𝘀 – powered by #DALA. Organized by the HKRMA – Voice of Hong Kong Retail and supported by the Trade and Industry Department #TID\, this event promises insightful discussions. \nEvent Details:\nDate: 17 December 2025\nTime: 16:00 – 18:00\nVenue: Auditorium\, BEC Building\, 77 Tat Chee Avenue\, Kowloon Tong\nLanguage: Cantonese Only\nRegister Now: https://lnkd.in/g2TcaVTa \nJoin #dataleaders Mandy Ng from #ASWaston & #Corporate #GrandWinner at #DALAAwards2024 ; Tico W. from E-banner & #SME #GrandWinner at hashtag#DALAAwards2025 and industry expert #RenoLeung from #Citybox\, along with our founding fellow #FF & #moderator Matthew Chan. They will share the latest trends\, practical use cases\, and success stories to inspire new\, data-driven retail experiences and foster sustainable growth. \nReserve Your Seat! Be part of Hong Kong’s growing #data and #AI #retail community—secure your spot today!
URL:https://dalahk.org/event/new-trends-in-smart-retail-digital-transformation-develop-effective-custmer-engagement-strategies-powered-by-dala/
LOCATION:Auditorium\, BEC Building\, 77 Tat Chee Avenue\, Kowloon Tong
CATEGORIES:Upcoming Events
ATTACH;FMTTYPE=image/jpeg:https://dalahk.org/wp-content/uploads/2026/01/HKRMA-Seminar_Dec_Eng_2-dragged-1-e1767761889197.jpg
END:VEVENT
END:VCALENDAR