BEGIN:VCALENDAR
VERSION:2.0
PRODID:-//Data &amp; AI Literacy Association - ECPv6.15.20//NONSGML v1.0//EN
CALSCALE:GREGORIAN
METHOD:PUBLISH
X-WR-CALNAME:Data &amp; AI Literacy Association
X-ORIGINAL-URL:https://dalahk.org
X-WR-CALDESC:Events for Data &amp; AI Literacy Association
REFRESH-INTERVAL;VALUE=DURATION:PT1H
X-Robots-Tag:noindex
X-PUBLISHED-TTL:PT1H
BEGIN:VTIMEZONE
TZID:Asia/Shanghai
BEGIN:STANDARD
TZOFFSETFROM:+0800
TZOFFSETTO:+0800
TZNAME:CST
DTSTART:20240101T000000
END:STANDARD
END:VTIMEZONE
BEGIN:VEVENT
DTSTART;TZID=Asia/Shanghai:20251126T140000
DTEND;TZID=Asia/Shanghai:20251126T180000
DTSTAMP:20260424T080343
CREATED:20251118T145412Z
LAST-MODIFIED:20260108T091422Z
UID:17951-1764165600-1764180000@dalahk.org
SUMMARY:DALA fully supports 2025 Management Forum – BRIDGE  AI and HR: Conflict or Complement?
DESCRIPTION:#DALA fully supports the 2025 Management Forum – BRIDGE  AI and HR: Conflict or Complement? \nHow do you think AI will shape the future of work and redefine the role of HR in organizational success? \nJoin us for the 2025 Management Forum – BRIDGE as we dive into one of the most critical questions of our time: AI and HR — Conflict or Complement? \n🗓 Date: 26 November 2025 (Wednesday)\n🕑 Time: 2:00 PM – 6:00 PM\n🍷 Networking Session: 6:00 PM – 8:00 PM\n📍 Location: The Galamuse by CTF Life\, K11 Atelier\, Tsim Sha Tsui\n🎤 Language: Cantonese\n💰 Fee: Free of Charge \n👉 Secure your spot now! https://forms.office.com/pages/responsepage.aspx?id=g84JIeR9cUSR_yBT-Qof2bW0xcXO4_hAjjDPGiTGEUtUOEwwRU8xV0w1UkRHVTQwNFowWDM0MkhVTS4u&route=shorturl \nFor enquiries\, contact us via WhatsApp at 61116991. \nLet’s explore how technology and human capability can come together to shape a smarter future of work!
URL:https://dalahk.org/event/management-forum-bridge_conflict-or-complement/
LOCATION:The Galamuse by CTF Life\, K11 Atelier\, Tsim Sha Tsui
CATEGORIES:Upcoming Events
ATTACH;FMTTYPE=image/jpeg:https://dalahk.org/wp-content/uploads/2026/01/1762826152108-1-e1767797850438.jpeg
END:VEVENT
END:VCALENDAR