BEGIN:VCALENDAR
VERSION:2.0
PRODID:-//Data &amp; AI Literacy Association - ECPv6.15.20//NONSGML v1.0//EN
CALSCALE:GREGORIAN
METHOD:PUBLISH
X-ORIGINAL-URL:https://dalahk.org
X-WR-CALDESC:Events for Data &amp; AI Literacy Association
REFRESH-INTERVAL;VALUE=DURATION:PT1H
X-Robots-Tag:noindex
X-PUBLISHED-TTL:PT1H
BEGIN:VTIMEZONE
TZID:Asia/Shanghai
BEGIN:STANDARD
TZOFFSETFROM:+0800
TZOFFSETTO:+0800
TZNAME:CST
DTSTART:20240101T000000
END:STANDARD
END:VTIMEZONE
BEGIN:VEVENT
DTSTART;TZID=Asia/Shanghai:20250520T000000
DTEND;TZID=Asia/Shanghai:20250714T000000
DTSTAMP:20260424T023022
CREATED:20250520T065526Z
LAST-MODIFIED:20250520T074151Z
UID:17327-1747699200-1752451200@dalahk.org
SUMMARY:DALA fully supports 【Hong Kong ICT Awards 2025: Smart Mobility Award 】
DESCRIPTION:#DALA is proud to be a supporting organization #SO for the【Hong Kong ICT Awards 2025: Smart Mobility Award 】 \nHas your company developed or owned an innovative solution that has been live for 3+ months and incorporates Smart Transport\, Smart Logistics\, or Smart Tourism elements? This is your opportunity to gain industry recognition and build valuable market exposure! 🌟 \nSteered by Digital Policy Office\, organised by GS1 Hong Kong\, the Smart Mobility Award is back again with three streams: Smart Logistics\, Smart Tourism\, and Smart Transport. \nThe Award drives smarter mobility innovations that enhance convenience and accessibility across Hong Kong\, benefiting both businesses and citizens. \nBy competing for the Award\, winners will enjoy these benefits:\nBoost credibility with top-tier industry recognition\nGain citywide exposure through free multi-channel promotion\nGet nominated for regional and international awards\nUnlock business opportunities at industry networking events \nSeize the opportunity to showcase your innovation to the entire city!\nSubmit your application today or share this opportunity with your network! \nEnrolment deadline for the Smart Mobility Award: 14 July 2025 12:00noon \nDetails of Smart Mobility Award: https://lnkd.in/g8njqeCd\nEnquiry: ictawards@gs1hk.org
URL:https://dalahk.org/event/dala-fully-supports-%e3%80%90hong-kong-ict-awards-2025-smart-mobility-award-%e3%80%91/
CATEGORIES:Upcoming Events
ATTACH;FMTTYPE=image/jpeg:https://dalahk.org/wp-content/uploads/2025/05/Event-Page-Banner-1.jpg
END:VEVENT
BEGIN:VEVENT
DTSTART;TZID=Asia/Shanghai:20250604T093000
DTEND;TZID=Asia/Shanghai:20250604T180000
DTSTAMP:20260424T023022
CREATED:20250428T063759Z
LAST-MODIFIED:20250428T064841Z
UID:17267-1749029400-1749060000@dalahk.org
SUMMARY:DALA fully supports HKRMA 2025 Hong Kong Retail Summit
DESCRIPTION:#DALA is proud to be a supporting organization #SO for the HKRMA 2025 Hong Kong Retail Summit \nJoin us for this year’s summit\, themed “Transformative Breakthroughs for Retail“.  As the retail industry navigates evolving market dynamics\, innovative strategies are essential for overcoming challenges and seizing opportunities.  Hong Kong is actively promoting a mega-event economy\, enhancing collaboration within the Greater Bay Area\, leveraging AI technologies and big data analytics\, and responding to demographic changes to boost competitiveness.  To achieve success\, it is crucial for the retail industry to thoroughly understand both global and local business environments. \nWe’re honored to welcome The Hon. Algernon Yau\, JP\, Secretary for Commerce and Economic Development of the HKSAR\, as our guest of honor. \nAs a supporting organization of the 2025 Hong Kong Retail Summit\, use the promo code “25RSSUPP” when registering to enjoy HKRMA member pricing. Seats are limited—don’t miss out!  Register now：https://hkrmaretailsummit2025.com/registration \nDate:  June 4\, 2025 (Wednesday)\nTime:  09:30 – 18:00\nLocation:  N200\, Hong Kong Convention and Exhibition Centre (New Wing)\nLanguage:  Cantonese (with some sessions in English/Putonghua) \nKey Sessions and Luncheon: \n\nSession A: Reshaping Retail with Data-Driven Breakthroughs\nSession B: Unlocking Retail Opportunities: Empowering Growth Through Policy\nKeynote luncheon: ‘Interactive Live Commerce Solutions: An Opportunity to Combine the Scalability of Online Retailing with a Personalised Interaction’\nSession C: Mastering Technology Transformation: Advancing Customer Retention and Acquisition\nSession D: Integrating Cross-Border Perspectives: Unleashing Global Market Potential
URL:https://dalahk.org/event/dala-fully-supports-hkrma-2025-hong-kong-retail-summit/
LOCATION:N200\, Hong Kong Convention and Exhibition Centre (New Wing)\, Hong Kong
CATEGORIES:Upcoming Events
ATTACH;FMTTYPE=image/png:https://dalahk.org/wp-content/uploads/2025/04/EventBanner_Desktop_event-title.png
END:VEVENT
BEGIN:VEVENT
DTSTART;TZID=Asia/Shanghai:20250606T090000
DTEND;TZID=Asia/Shanghai:20250606T183000
DTSTAMP:20260424T023022
CREATED:20250525T054729Z
LAST-MODIFIED:20250603T055708Z
UID:17445-1749200400-1749234600@dalahk.org
SUMMARY:DALA fully supports AI+ Power 2025 (by BGOV)
DESCRIPTION:#DALA is glad to participate in the BGOV AI + Power one of signature forum\, “CEO Perspectives: Reality Check of AI and ROI Dilemmas\,” on June 5\, 2025. \nOur founding chairman Dr. Toa CHARM will moderate a panel discussion with esteemed #CEOs: Simon Loong from #Welab\, Anthony Lam from Golden Resources\, Joanne Hon (she/her) from #EquinixHK\, and Ricky Chong from #RicohHK. They will address common misconceptions\, implementation challenges\, and ethical considerations surrounding AI adoption. \nBGOV AI+ Power 2025 Premier Forum:\n《CEO Perspectives: Reality Check of AI and ROI Dilemmas》\n2025.6.5 (Thu)\n10:25 – 11:15 \nRegister FREE 👉 https://bit.ly/4joEktG \nJoin our panel of CEOs as they dissect common misconceptions\, implementation challenges\, and ethical considerations that come with AI adoption. \n▪️ Balancing short-term results with long-term value creation\n▪️ Success metrics and risk management for AI projects\n▪️ Navigating digital transformation\, customer trust\, and regulatory challenges\n▪️ Leveraging cutting-edge AI trends to maximize ROI✨ \nModerator:\n•  Dr. Dr. Toa CHARM\, Founding Chairman\, Data & AI Literacy Association \nPanelists:\n• Mr. Simon Loong\, Founder and Group CEO\, WeLab\n• Mr. Anthony Lam\, Group CEO & Vice Chairman\, Golden Resources\n• Ms. Joanne Hon (she/her)\, Managing Director of Hong Kong\, Equinix Hong Kong\n• Mr. Ricky Chong\, Managing Director\, Ricoh Hong Kong \n🫵🏻 Planning or undergoing AI transformation?\nJoin this candid discussion with industry leaders! \nDon’t miss the opportunity to gain valuable insights and tips! Register now! 👉 https://bit.ly/4joEktG
URL:https://dalahk.org/event/dala-fully-supports-ai-power-2025-by-bgov/
LOCATION:Hall 5FG\, Hong Kong Convention and Exhibition Centre
CATEGORIES:Upcoming Events
ATTACH;FMTTYPE=image/jpeg:https://dalahk.org/wp-content/uploads/2025/06/edmHeader.jpg
END:VEVENT
BEGIN:VEVENT
DTSTART;TZID=Asia/Shanghai:20250613T090000
DTEND;TZID=Asia/Shanghai:20250613T170000
DTSTAMP:20260424T023022
CREATED:20250601T052926Z
LAST-MODIFIED:20250603T054314Z
UID:17438-1749805200-1749834000@dalahk.org
SUMMARY:DALA fully supports SAP NOW AI Tour Hong Kong
DESCRIPTION:#DALA is proud to be a supporting organization #SO for the SAP NOW AI Tour  \nJoin us at the Hopewell Hotel in Hong Kong on Friday 13th June to discover how to unlock your full business potential. Register now!  https://www.sap.com/hk/events/sapnowhongkong.html?source=email-hk-dala \nAt the SAP NOW AI Tour Hong Kong\, business leaders\, industry experts\, and technology pioneers will gather to focus on one idea – unleashing your future with business AI! \nThe unique one-day event combines immersive discussions\, in-depth customer experiences\, and hands-on demos of cutting-edge AI and cloud innovations. All designed to provide actionable insights on how AI\, data\, and enterprise applications are converging to enable smarter\, more agile businesses. \nGet beyond the hype and reach real results \nThe packed morning session includes strategic keynotes by senior SAP leaders on the latest business AI innovations\, executive exchanges\, followed by a series of deep dives into finance transformation and efficiency. Network with peers and industry experts over lunch. And customise your own afternoon experience by picking and choosing from two deep dive breakout tracks – Cloud ERP or Business AI. \nDon’t miss this chance to: \n\nDiscover how SAP offerings empower organizations to scale\, innovate\, and adapt faster in a rapidly evolving world\, connecting every part of the business to deliver end-to-end transformation.\nExplore how you can benefit from AI built into your core business processes supported by systems of AI agents collaborating with each other to achieve individual or collective goals.\n\nLearn how to break down data silos and unify structured and unstructured data across SAP and non-SAP systems to offer one common data layer. \nEvent Information \nDate: June 13\, 2025\, Friday \nVenue: Hopewell Hotel \nWebsite: https://www.sap.com/hk/events/sapnowhongkong.html
URL:https://dalahk.org/event/dala-fully-supports-sap-now-ai-tour-hong-kong/
LOCATION:Hopewell Hotel
CATEGORIES:Upcoming Events
ATTACH;FMTTYPE=image/png:https://dalahk.org/wp-content/uploads/2025/06/KV-Email-Banner-SAP-NOW-AI-Tour-Hong-Kong.png
END:VEVENT
BEGIN:VEVENT
DTSTART;TZID=Asia/Shanghai:20250625T190000
DTEND;TZID=Asia/Shanghai:20250625T203000
DTSTAMP:20260424T023022
CREATED:20250620T063356Z
LAST-MODIFIED:20250620T064016Z
UID:17454-1750878000-1750883400@dalahk.org
SUMMARY:DALA fully supports 2025 HKIM Experience Sharing Seminar
DESCRIPTION:#DALA is proud to be a supporting organization #SO for the 2025 HKIM Experience Sharing Seminar \n港電商突圍 × 迎戰中美局 \nHK E-com Break-through Strategies under US-China Shifts \n中美博弈關稅拉鋸，全球供應鏈風高浪急，在變局中穩握機遇、落子無憂，是香港甚至全球企業面臨的一大難題。本次分享將聚焦兩大話題，拆解香港電商爆發力與中美博弈對全球貿易的關鍵影響。 \n1. 香港電商成爲「超級跳板」 \n– 解讀香港政策優勢(如BUD專項基金、智慧物流基建)如何助企業降本增效 \n– 粵港澳大灣區樞紐角色：樞紐地位將持續受益於内地及海外市場拓展，分析本地消費趨勢、内地市場機遇及海外拓展路徑 \n2. 中美過招，企業如何拆招？ \n– 最新關稅資訊動態解讀 \n– 從高/低貨值商品生存策略探討企業應對方案 \n– 未來風險預警：關稅可能重新突破50%，企業如何預備Plan B? \nSpeaker: \nMr. Stanley Lee李基銓先生 \n香港電商協會創會會長 \n李先生是唯高盛(CBES Group)創辦人兼董事總經理，有超過 20 年零售、網購及跨境電商物流的豐富經驗\, 公司已於全球超過 10 個國家及地區設立倉庫及辦事處\, 並帶領公司 300 人團隊致力為香港及亞洲的跨境電商提供全面的服務。他於2015年創辦香港電商協會並擔任會長至今。 \n他同時亦是中國人民政治協商會議中山市委員、香港中小型企業總商會副會長兼電商政策委員會主席、香港特別行政區中小型企業委員會委員、智慧城市聯盟副會長、香港Q嘜優質標誌局委員會委員、香港物流發展局成員，將自己的經驗貢獻社會。 \n日期: 6月25日  (星期三) \n時間: 下午7時 至 下午8時30分 (6時30分登記) \n語言: 粵語 \nCPD時數: 1.5小時 \n地點: 九龍尖沙咀麼地道68號 帝國中心1樓 會所一號 \n費用: 會員 HK$180 / 非會員 HK$280
URL:https://dalahk.org/event/dala-fully-supports-2025-hkim-experience-sharing-seminar/
LOCATION:九龍尖沙咀麼地道68號 帝國中心1樓 會所一號
CATEGORIES:Upcoming Events
ATTACH;FMTTYPE=image/jpeg:https://dalahk.org/wp-content/uploads/2025/06/WhatsApp-Image-2025-06-16-at-11.10.13-AM-e1750401223885.jpeg
END:VEVENT
END:VCALENDAR