BEGIN:VCALENDAR
VERSION:2.0
PRODID:-//Data &amp; AI Literacy Association - ECPv6.15.20//NONSGML v1.0//EN
CALSCALE:GREGORIAN
METHOD:PUBLISH
X-WR-CALNAME:Data &amp; AI Literacy Association
X-ORIGINAL-URL:https://dalahk.org
X-WR-CALDESC:Events for Data &amp; AI Literacy Association
REFRESH-INTERVAL;VALUE=DURATION:PT1H
X-Robots-Tag:noindex
X-PUBLISHED-TTL:PT1H
BEGIN:VTIMEZONE
TZID:Asia/Shanghai
BEGIN:STANDARD
TZOFFSETFROM:+0800
TZOFFSETTO:+0800
TZNAME:CST
DTSTART:20240101T000000
END:STANDARD
END:VTIMEZONE
BEGIN:VEVENT
DTSTART;TZID=Asia/Shanghai:20250310T090000
DTEND;TZID=Asia/Shanghai:20250407T183000
DTSTAMP:20260423T234353
CREATED:20250310T064711Z
LAST-MODIFIED:20250310T074552Z
UID:17167-1741597200-1744050600@dalahk.org
SUMMARY:數據及人工智能素養協會 全力支持 【B4B大數據商業應用挑戰賽2024-25】
DESCRIPTION:【B4B大數據商業應用挑戰賽2024-25】- 焦點主題介紹 -「碳科技於房地產 CarbonTech for Real Estate」\n房地產不僅僅是建築和磚塊，從工作場所到購物場所，交通運輸點，甚至是我們的住所，它與我們的生活息息相關。我們期望能夠在大數據及物管科技的幫助下，進一步探索如何讓房地產價值鏈更永續——從新建築、能源管理、智慧設計到設施管理，讓房地產的價值鏈更永續，用創新科技改變我們的生活空間！ \n立即報名：https://forms.office.com/r/yikgCvK3Rp\n截止報名日期：2025年3月17日 \n創新房地產碳科技解決方案，包括但不限於以下領域：\n– 通訊\n– 建設和拆卸流程和管理\n– 連續性計畫\n– 客戶服務\n– 能源和管理 – 電能和熱能\n– 環境管理與可持續發展\n– 消防安全\n– 人力資源管理\n– 室內外規劃\n– 維護、調試及檢查\n– 新材料和/或應用\n– 運營管理\n– 專案管理\n– 品質控制\n– 安全保衛\n– 供應鏈管理 \n參賽資格:\n1.擁有至少一個商業客戶的可靠且創新的解決方案\n2.解決方案屬於一個或多個範疇，如：\n– 建築材料\n– 能源管理\n– 設計與規劃\n– 建設與拆除\n– 設施管理 \n專家導師\n首席導師車品覺教授\, JP ，創始人兼董事李振業先生，及首席顧問湛家揚博士與參賽隊伍進行一對一的指導！入圍團隊更可免費於 2025年4月13-16日期間在香港國際創科展InnoEX參展！ \n重要日期\n報名截止：2025年3月17日\n初賽評選： 2025 年3月22日\n賽果公佈及頒獎典禮：2025年4月14日\n香港創科展InnoEX：2025年4月13日至16日 \n如果你的專案符合數據驅動的ESG解決方案且適用於房地產行業，並希望獲得資源與行業專家的支持，千祈不要錯過這次機會，按下以下鏈接立即報名啦\n立即報名：https://forms.office.com/r/yikgCvK3Rp\n截止報名日期：2025年3月17日\n想瞭解更多是次比賽詳情，歡迎 WhatsApp：9818 7719與本處聯絡
URL:https://dalahk.org/event/%e6%95%b8%e6%93%9a%e5%8f%8a%e4%ba%ba%e5%b7%a5%e6%99%ba%e8%83%bd%e7%b4%a0%e9%a4%8a%e5%8d%94%e6%9c%83-%e5%85%a8%e5%8a%9b%e6%94%af%e6%8c%81-%e3%80%90b4b%e5%a4%a7%e6%95%b8%e6%93%9a%e5%95%86%e6%a5%ad/
LOCATION:HKCEC
CATEGORIES:Upcoming Events
END:VEVENT
BEGIN:VEVENT
DTSTART;TZID=Asia/Shanghai:20250413T090000
DTEND;TZID=Asia/Shanghai:20250416T183000
DTSTAMP:20260423T234353
CREATED:20250331T082825Z
LAST-MODIFIED:20250331T082947Z
UID:17247-1744534800-1744828200@dalahk.org
SUMMARY:Thrilling Innovation & Technology Fairs Opening in April
DESCRIPTION:The 3rd #InnoEX and the 21st HKTDC #HongKongElectronicsFair (Spring Edition) are set to dazzle at the highly anticipated Business of Innovation and Technology Week (#BITWeek) this April! Witness groundbreaking technologies and the latest electronic products on display! InnoEX\, co-organised by the Hong Kong SAR Government’s Innovation\, Technology and Industry Bureau and the Hong Kong Trade Development Council\, will focus on hot areas such as Artificial Intelligence\, Robotics\, Cybersecurity\, Smart Mobility\, Low Altitude Economy\, and Solutions for SMEs this year\, giving you a glimpse into the unlimited possibilities of technology! In addition\, the Digital Policy Office will stage the Smart Hong Kong Pavilion at InnoEX\, showcasing innovative solutions adopted by government departments and public organisations\, and winning products and solutions of various I&T awards. The Hong Kong Electronics Fair (Spring Edition) will showcase a variety of innovative and established electronic products and technology solutions. Focus areas include Smart Home & Solutions\, and Health Tech & Wearables! International buyers\, I&T professionals\, and users from diverse industries and enterprises of all sizes\, \nRegister now for Free Admission! https://bit.ly/4aGMVEN \nDate: 13 to 16 April\, 2025 (Sunday to Wednesday) \nVenue: Hong Kong Convention and Exhibition Centre
URL:https://dalahk.org/event/thrilling-innovation-technology-fairs-opening-in-april/
LOCATION:HKCEC
CATEGORIES:Upcoming Events
ATTACH;FMTTYPE=image/png:https://dalahk.org/wp-content/uploads/2025/03/2025-InnoEX-landscape-Outline.png
END:VEVENT
END:VCALENDAR