BEGIN:VCALENDAR
VERSION:2.0
PRODID:-//Data &amp; AI Literacy Association - ECPv6.15.20//NONSGML v1.0//EN
CALSCALE:GREGORIAN
METHOD:PUBLISH
X-WR-CALNAME:Data &amp; AI Literacy Association
X-ORIGINAL-URL:https://dalahk.org
X-WR-CALDESC:Events for Data &amp; AI Literacy Association
REFRESH-INTERVAL;VALUE=DURATION:PT1H
X-Robots-Tag:noindex
X-PUBLISHED-TTL:PT1H
BEGIN:VTIMEZONE
TZID:Asia/Shanghai
BEGIN:STANDARD
TZOFFSETFROM:+0800
TZOFFSETTO:+0800
TZNAME:CST
DTSTART:20230101T000000
END:STANDARD
END:VTIMEZONE
BEGIN:VEVENT
DTSTART;TZID=Asia/Shanghai:20240920T090000
DTEND;TZID=Asia/Shanghai:20240920T163000
DTSTAMP:20260424T093700
CREATED:20240916T073012Z
LAST-MODIFIED:20250107T092759Z
UID:16143-1726822800-1726849800@dalahk.org
SUMMARY:DaLa fully supports Hong Kong Computer Society Cyber Security Annual Forum 2024
DESCRIPTION:Thanks to the organizers’ invitation\, DaLa’s founding chairman Dr. Charm is pleased to share the keynote of topic “Why Data is so important in the world of AI and Cyberscurity” & will also be one of the panelists at the Hong Kong Computer Society Cyber Security Annual Forum 2024. \nIn Hong Kong\, like any other international cities in the world\, all industries are transforming to become data driven and make use of Artificial Intelligence (AI) to improve their customer experience\, product and service offerings and efficiency. The purpose of this forum is to provide industry practitioner in Hong Kong with latest trend and update on Data Governance and their impact on Cybersecurity in the backdrop of increasing adoption of AI tools. \nPanel Discussion 1: How can Hong Kong retain as an international hub that superconnects China to the rest of the world in AI\, Data and Cybersecurity? \nPanelists:\n– Mr Baron Chan\nSuperintendent of Police\, Cyber Security Division\, Cyber Security and Technology Crime Bureau of the Hong Kong Police Force\n– Dr Toa Charm\nFounding Chairman\, Data Literacy Association\n– Ms Eva Kwok\nSenior Managing Director\, FTI Consulting\n– Mr Dicky Wong\nExco Member of Cyber Security Specialist Group\, Hong Kong Computer Society and Head of Cyber Security and Technology Risks\, New World Corporate Services Limited \nEvent Details\nDate: 20 September 2024 (Friday)\nTime: 9:30am – 4:40pm (Registration starts at 9:00am)\nVenue: Chamber 1A & 1B\, G/F\, InnoCentre\, 72 Tat Chee Avenue\, Kowloon Tong\, Kowloon\nTarget Audience: HKCS Members\, IT Professionals\nLanguage: English\nFormat: Face to Face\nFees: [Invitation] HKCS Cyber Security Annual Forum 2024: Core Practice of Data Governance in Cyber Security and AI (20 Sep 2024) (anpasia.com)
URL:https://dalahk.org/event/dala-fully-supports-hong-kong-computer-society-cyber-security-annual-forum-2024/
LOCATION:Inno Theatre (Theatre 1)\, 1/F\, HKPC Building\, 78 Tat Chee Ave\, Kowloon Tong
CATEGORIES:Upcoming Events
ATTACH;FMTTYPE=image/png:https://dalahk.org/wp-content/uploads/2024/09/9.20-HKCS_Core-Practice-of-Data-Governance-in-Cyber-Security-and-AI.png
END:VEVENT
BEGIN:VEVENT
DTSTART;TZID=Asia/Shanghai:20240926T140000
DTEND;TZID=Asia/Shanghai:20240926T170000
DTSTAMP:20260424T093700
CREATED:20240916T080354Z
LAST-MODIFIED:20250107T092744Z
UID:16151-1727359200-1727370000@dalahk.org
SUMMARY:DaLa Seminar: AIOps Unleashed: Transforming IT Operations with AI
DESCRIPTION:Discover the future of IT operations at our upcoming #DaLa seminar on September 26 from 2 PM to 5 PM! We are delighted to welcome distinguished guests\, along with our founding Chairman\, Dr. Toa CHARM\, who will moderate the panel discussion “𝗖𝗜𝗢 𝗣𝗲𝗿𝘀𝗽𝗲𝗰𝘁𝗶𝘃𝗲𝘀: 𝗧𝗵𝗲 𝗘𝘃𝗼𝗹𝘂𝘁𝗶𝗼𝗻 𝗼𝗳 𝗜𝗧 𝗢𝗽𝗲𝗿𝗮𝘁𝗶𝗼𝗻𝘀 𝘄𝗶𝘁𝗵 𝗔𝗜𝗢𝗽𝘀.” \n* Allan Wong – Director of Information Technology at Hong Kong Baptist University\n* Dr Andy L. – Head of Digital Transformation & Insights at HK Express\n* Michael Kwok\, Ph.D. – Vice President of Product Development of IT Automation at IBM\n* Percy Lau – CEO and Founder of Aifin Technology Co.\, Limited \nThis engaging discussion will explore how AIOps is reshaping the IT landscape\, enhancing operational efficiency\, and enabling organizations to respond swiftly to challenges. The panelists will share insights on best practices\, real-world applications\, and the future of IT operations in an AI-driven world. \nAdditionally\, Michael Kwok\, Ph.D. will present on “𝗧𝗵𝗲 𝗘𝗿𝗮 𝗼𝗳 𝗔𝗜-𝗣𝗼𝘄𝗲𝗿𝗲𝗱 𝗔𝘂𝘁𝗼𝗺𝗮𝘁𝗶𝗼𝗻” sharing how AI is transforming automation processes across industries. \nDate: September 26\, 2024 (Thursday)\nTime: 2-5pm\nVenue: Orchid Room\, Lower Level II\, Kowloon Shangri-la\, 64 Mody Road\, TST\nRegister Now: https://bit.ly/3X79a0a
URL:https://dalahk.org/event/%f0%9d%98%bf%f0%9d%99%96%f0%9d%99%87%f0%9d%99%96-%f0%9d%99%8e%f0%9d%99%9a%f0%9d%99%a2%f0%9d%99%9e%f0%9d%99%a3%f0%9d%99%96%f0%9d%99%a7-%f0%9d%97%94%f0%9d%97%9c%f0%9d%97%a2%f0%9d%97%bd%f0%9d%98%80/
LOCATION:Kowloon Shangri-la\, 64 Mody Road\, TST
CATEGORIES:Upcoming Events
ATTACH;FMTTYPE=image/jpeg:https://dalahk.org/wp-content/uploads/2024/09/AIOps-Unleashed-Transforming-IT-Operations-with-AI-2-scaled.jpg
END:VEVENT
END:VCALENDAR