BEGIN:VCALENDAR
VERSION:2.0
PRODID:-//Data &amp; AI Literacy Association - ECPv6.15.20//NONSGML v1.0//EN
CALSCALE:GREGORIAN
METHOD:PUBLISH
X-ORIGINAL-URL:https://dalahk.org
X-WR-CALDESC:Events for Data &amp; AI Literacy Association
REFRESH-INTERVAL;VALUE=DURATION:PT1H
X-Robots-Tag:noindex
X-PUBLISHED-TTL:PT1H
BEGIN:VTIMEZONE
TZID:Asia/Shanghai
BEGIN:STANDARD
TZOFFSETFROM:+0800
TZOFFSETTO:+0800
TZNAME:CST
DTSTART:20230101T000000
END:STANDARD
END:VTIMEZONE
BEGIN:VEVENT
DTSTART;TZID=Asia/Shanghai:20240803T090000
DTEND;TZID=Asia/Shanghai:20240803T130000
DTSTAMP:20260424T105741
CREATED:20240725T032523Z
LAST-MODIFIED:20250107T092905Z
UID:15912-1722675600-1722690000@dalahk.org
SUMMARY:DaLa fully supports the "Get Hong Kong ready for a Professional Hub on Smart Procurement and Fulfillment International Conference"
DESCRIPTION:DaLa fully supports the “Get Hong Kong ready for a Professional Hub on Smart Procurement and Fulfillment International Conference” organized by The Institute of Purchasing & Supply of Hong Kong (IPSHK) and Hong Kong Productivity Council (HKPC). \nThanks to the organizers’ invitation\, DaLa’s founding chairman Dr. Charm is pleased to share insights on “Empowering the procurement and supply industry with AI and Big Data” in his keynote speech. \nThis conference will bring together industry professionals\, academics\, digital transformation representatives\, industry leaders and executives in procurement and supply management from the international Asia Pacific region and Hong Kong. They will analyze the successful tips in digital transformation and infrastructure applications for the industry and relevant stakeholders\, explore challenges and opportunities\, leverage technology to achieve synergies\, and enable business transformation. Industry players and interested parties are welcome to register. \nEvent Details:\nDate: 3 August 2024 (Saturday)\nTime: 09:00 – 13:00\nVenue: Meeting Room S421\, L4\, Hong Kong Convention and Exhibition Centre\nAdmission: Free of charge\nRegistration: https://www.ipshk.org/event/event-list/the_50th_anniversary_of_ipshk_luncheon.html
URL:https://dalahk.org/event/dala-fully-supports-the-get-hong-kong-ready-for-a-professional-hub-on-smart-procurement-and-fulfillment-international-conference/
LOCATION:Meeting Room S421\, L4\, Hong Kong Convention and Exhibition Centre
CATEGORIES:Upcoming Events
ATTACH;FMTTYPE=image/jpeg:https://dalahk.org/wp-content/uploads/2024/07/1720920653316.jpg
END:VEVENT
BEGIN:VEVENT
DTSTART;TZID=Asia/Shanghai:20240816T093000
DTEND;TZID=Asia/Shanghai:20240816T173000
DTSTAMP:20260424T105741
CREATED:20240805T074703Z
LAST-MODIFIED:20250107T092846Z
UID:15956-1723800600-1723829400@dalahk.org
SUMMARY:DaLa fully supports the Imaginary Fairground: AI-Powered Entertainment in the Web 3.0 Era
DESCRIPTION:DaLa fully supports the Imaginary Fairground: AI-Powered Entertainment in the Web 3.0 Era organized by Hong Kong Cyberport. Thanks to the organizers’ invitation\, DaLa’s founding chairman Dr. Charm is pleased to be a Moderator of the panel discussion. \nPanel Discussion: Reshaping Digital Entertainment: Trends and Key Milestones in Generative AI\nThis panel discussion explores the transformative impact of generative AI on current and future digital entertainment. Experts will discuss trends\, key milestones\, and the potential of AI-generated content\, ranging from virtual characters and environments to procedural storytelling\, revolutionizing the way entertainment is created and consumed. \nModerator:  \nDr Toa Charm\, Founding Chairman\, Data Literacy Association \nPanelists:\nMr Zhang Ji\, Senior Staff Algorithm Engineer\, Alibaba Institute for Intelligent Computing\nMs Tina Wang\, Vice-president\, APAC\, Midjourney\n百度智慧雲中國區南部地區總經理段巍先生 \nDate: 16 August 2024 (Friday)\nTime: 9:30 – 17:00\nLocation: Main Stage – CyberArena\nRegistration: Digital Entertainment Leadership Forum 2024 (chefdigital.io)
URL:https://dalahk.org/event/dala-fully-supports-the-imaginary-fairground-ai-powered-entertainment-in-the-web-3-0-era/
LOCATION:Cyberport
CATEGORIES:Upcoming Events
ATTACH;FMTTYPE=image/png:https://dalahk.org/wp-content/uploads/2024/08/banner.png
END:VEVENT
BEGIN:VEVENT
DTSTART;TZID=Asia/Shanghai:20240820T140000
DTEND;TZID=Asia/Shanghai:20240820T180000
DTSTAMP:20260424T105741
CREATED:20240727T135202Z
LAST-MODIFIED:20250107T092822Z
UID:15930-1724162400-1724176800@dalahk.org
SUMMARY:DaLa fully supports the HKIM Symposium 2024
DESCRIPTION:DaLa fully supports the HKIM Symposium 2024 organized by Hong Kong Institute of Marketing. Thanks to the organizers’ invitation\, DaLa’s founding chairman Dr. Charm is pleased to be a Moderator of the panel discussion. \n生成式人工智能的應用攻略\nGenerative AI & Beyond: What is the Next Big Thing? \nThe symposium on “Generative AI & Beyond: What’s the Next Big Thing” is a groundbreaking event that aims to bring together leading experts\, researchers\, and industry professionals to discuss\, exchange insights and delve into the future potentials of generative artificial intelligence (AI) and its potential implications in various fields\, such as retail\, catering\, communication and education. \nDate: 20 August 2024 (Tuesday)\nTime: 14:00 – 18:00 (Registration at 13:30)\nLocation: Inno Theatre (Theatre 1)\, 1/F\, HKPC Building\, 78 Tat Chee Ave\, Kowloon Tong\nCPD: 3.5 Hours\nFee: HK$280 HKIM Member\, HK$380 Non-Member\nRegistration: HKIM Symposium 2024 \nPlenary Speakers:\nMr. Edward Choi\, Founder & Chairman\, The Institute of Artificial Intelligence\nMr. Shing Lee\, Cloud Solution Strategist\, Microsoft\nMs. Emily Lok\, Senior Business Development Manager\, Key Accounts\, Alibaba Cloud Hong Kong\nMr. Julian Sin\, Senior Sales Manager\, SenseTime \nPanel Discussion:\nModerator:\nDr. Toa Charm\, Founding Chairman\, Data Literacy Association \nPanel Speakers:\nMr. Matthew Chan\, Founding Fellow\, Data Literacy Association\nMr. Tommie Lo\, Founder & CEO\, Preface\nMs. Rannes Man\, Chief AI & Multimedia Facilitator\, Meta Academy\nMr. Victor Wong\, Founder & CEO\, UNCLE2 FINTECH LIMITED
URL:https://dalahk.org/event/dala-fully-supports-the-hkim-symposium-2024/
LOCATION:Inno Theatre (Theatre 1)\, 1/F\, HKPC Building\, 78 Tat Chee Ave\, Kowloon Tong
CATEGORIES:Upcoming Events
ATTACH;FMTTYPE=image/jpeg:https://dalahk.org/wp-content/uploads/2024/07/13e21fc7-43ff-4bac-be72-081953db012b-e1722088306929.jpg
END:VEVENT
END:VCALENDAR