BEGIN:VCALENDAR
VERSION:2.0
PRODID:-//Data &amp; AI Literacy Association - ECPv6.15.20//NONSGML v1.0//EN
CALSCALE:GREGORIAN
METHOD:PUBLISH
X-WR-CALNAME:Data &amp; AI Literacy Association
X-ORIGINAL-URL:https://dalahk.org
X-WR-CALDESC:Events for Data &amp; AI Literacy Association
REFRESH-INTERVAL;VALUE=DURATION:PT1H
X-Robots-Tag:noindex
X-PUBLISHED-TTL:PT1H
BEGIN:VTIMEZONE
TZID:Asia/Shanghai
BEGIN:STANDARD
TZOFFSETFROM:+0800
TZOFFSETTO:+0800
TZNAME:CST
DTSTART:20230101T000000
END:STANDARD
END:VTIMEZONE
BEGIN:VEVENT
DTSTART;TZID=Asia/Shanghai:20240607T143000
DTEND;TZID=Asia/Shanghai:20240607T173000
DTSTAMP:20260424T131908
CREATED:20240528T065126Z
LAST-MODIFIED:20250107T092210Z
UID:15604-1717770600-1717781400@dalahk.org
SUMMARY:DaLa event - Data Empowers Retail:  How Data Unlocks Sales Opportunity
DESCRIPTION:Are you a retail\, marketing\, or management professional looking to drive sales and business success through data-driven strategies?\nDon’t miss the upcoming DaLa event – 𝗗𝗮𝘁𝗮 𝗘𝗺𝗽𝗼𝘄𝗲𝗿𝘀 𝗥𝗲𝘁𝗮𝗶𝗹: 𝗛𝗼𝘄 𝗗𝗮𝘁𝗮 𝗨𝗻𝗹𝗼𝗰𝗸𝘀 𝗦𝗮𝗹𝗲𝘀 𝗢𝗽𝗽𝗼𝗿𝘁𝘂𝗻𝗶𝘁𝘆 on June 7\, 2024. \nCo-hosted with one of retail leading association HKRMA – Voice of Hong Kong Retail\, and business partners. This event will equip you with actionable insights\, tactics\, and best practices to leverage data and digital tools for boosting your sales and marketing efforts. \nOur founding fellows Matthew Chan and Andrew Chan will moderate a panel to highlight how to generate sales by using Data & Digital tactics; and how to use marketing budgets to generate more impact\, with insightful speakers from leading brands like #KDollar\, #SHOPLINE\, #Popsible\, #HKT\, #iClick\, and #ApoideaGroup. \nEvent Info.\nDate：07 June 2024（Friday）\nTime：14:30 – 17:30\nVenue: EJ Media Lab 31/F.\, AIA Kowloon Tower\, 100 How Ming Street\, Kwun Tong\nLanguage:  Cantonese\nRegister now to secure your spot: https://bit.ly/3ywSoiA
URL:https://dalahk.org/event/dala-event-data-empowers-retail-how-data-unlocks-sales-opportunity/
LOCATION:EJ Media Lab 31/F.\, AIA Kowloon Tower\, 100 How Ming Street\, Kwun Tong
CATEGORIES:Upcoming Events
ATTACH;FMTTYPE=image/jpeg:https://dalahk.org/wp-content/uploads/2024/05/Data-Empower-Retail-How-Data-Unlock-Sales-Opportunity-_Banner.jpg
END:VEVENT
BEGIN:VEVENT
DTSTART;TZID=Asia/Shanghai:20240613T083000
DTEND;TZID=Asia/Shanghai:20240613T173000
DTSTAMP:20260424T131908
CREATED:20240326T084541Z
LAST-MODIFIED:20250107T093000Z
UID:15404-1718267400-1718299800@dalahk.org
SUMMARY:Leveraging Data and Gen AI in your ESG Journey
DESCRIPTION:We are fully support [The 9th Cloud Forum\, 13 June] – Gen AI: Reshaping the Future Cloudscape\nBe part of this frontier and opportunity. Be at the Cloud Forum. \nREGISTER NOW!\nDate: 13 Jun 2024 (Thu)\nTime: 0830am – 1730pm\nVenue: Hong Kong Convention and Exhibition Centre\nWebsite: https://www.cloudforum.hk \nFirst 10 registrations for FREE\, key-in code [9CFDLF].\nFollow us on LinkedIn: https://bit.ly/4aPrzUz
URL:https://dalahk.org/event/the-9th-cloud-forum-gen-ai-reshaping-the-future-cloudscape/
LOCATION:Hong Kong Convention and Exhibition Centre (New Wing)
CATEGORIES:Upcoming Events
ATTACH;FMTTYPE=image/jpeg:https://dalahk.org/wp-content/uploads/2024/03/1709623460048-1.jpg
END:VEVENT
END:VCALENDAR