BEGIN:VCALENDAR
VERSION:2.0
PRODID:-//Data &amp; AI Literacy Association - ECPv6.15.20//NONSGML v1.0//EN
CALSCALE:GREGORIAN
METHOD:PUBLISH
X-WR-CALNAME:Data &amp; AI Literacy Association
X-ORIGINAL-URL:https://dalahk.org
X-WR-CALDESC:Events for Data &amp; AI Literacy Association
REFRESH-INTERVAL;VALUE=DURATION:PT1H
X-Robots-Tag:noindex
X-PUBLISHED-TTL:PT1H
BEGIN:VTIMEZONE
TZID:Asia/Shanghai
BEGIN:STANDARD
TZOFFSETFROM:+0800
TZOFFSETTO:+0800
TZNAME:CST
DTSTART:20230101T000000
END:STANDARD
END:VTIMEZONE
BEGIN:VEVENT
DTSTART;TZID=Asia/Shanghai:20240503T143000
DTEND;TZID=Asia/Shanghai:20240503T173000
DTSTAMP:20260424T143635
CREATED:20240419T124047Z
LAST-MODIFIED:20250107T093405Z
UID:15506-1714746600-1714757400@dalahk.org
SUMMARY:11 SKIES Pre-Opening Visit - Exclusive Tour for DaLa Members & Partners
DESCRIPTION:We are delighted to extend an exclusive invitation to join us on a tour visit to 11 SKIES\, Hong Kong’s largest retail\, business\, and entertainment hub in the Greater Bay Area. This is a fantastic opportunity to explore and experience this remarkable destination. \nEvent Information:\nDate: May 03\, 2024\nGathering Time & Location: 2:30 pm at Mainland Coaches\, 1/F Element\nShuttle Bus: Direct transportation to Sky City\nDismissal: 5:30 pm at Tsim Sha Tsui Station \nKindly register bit.ly/4cZQLti if you are available to join us. \nSeats are limited\, so please register by April 25\, 2024. A confirmation email will be sent on/ before April 29\, 2024.
URL:https://dalahk.org/event/11-skies-pre-opening-visit-exclusive-tour-for-dala-members-partners/
LOCATION:Sky City
CATEGORIES:Upcoming Events
ATTACH;FMTTYPE=image/jpeg:https://dalahk.org/wp-content/uploads/2024/04/Banner.jpg
END:VEVENT
BEGIN:VEVENT
DTSTART;TZID=Asia/Shanghai:20240503T150000
DTEND;TZID=Asia/Shanghai:20240503T170000
DTSTAMP:20260424T143635
CREATED:20240424T080045Z
LAST-MODIFIED:20250107T093200Z
UID:15521-1714748400-1714755600@dalahk.org
SUMMARY:Asia Smart App Workshop –From Idea to App: The Ultimate Guide to Smart App Development for Startups
DESCRIPTION:We are pleased to support Asia Smart App Workshop –From Idea to App: The Ultimate Guide to Smart App Development for Startups organized by WTIA \nDate: 3 May 2024\, Friday\nVenue: 4/F\, Koho\, 73-75 Hung To Road\, Kwun Tong\, Hong Kong\nTime: 3:00pm – 5:00pm\nLanguage: English\nRegistration: https://www.eventbrite.hk/e/from-idea-to-app-the-ultimate-guide-to-smart-app-development-for-startups-tickets-876462100737 \nWhether you’re an aspiring app developer\, tech entrepreneur\, or simply curious about the world of smart apps\, this workshop is your golden opportunity to learn from industry experts and gain insights into the intricacies of smart app development. \nSpeaker:\nMr Kevin Leung\, Founder & CEO\, Liquid Tech Limited\nMr Terrance lok\, CEO\, TalentLabs Limited\nMr Landson Li\, CTO\, Llewellyn and Partners Company Limited \nModerator:\nMr Luke Chu\, Chairman\, Hong Kong Internet & Ecommerce Association \nDon’t miss out on this exclusive chance to network with like-minded individuals\, gain practical knowledge\, and take your startup to new heights! \nLimited seats available\, so secure your spot now!
URL:https://dalahk.org/event/asia-smart-app-workshop-from-idea-to-app-the-ultimate-guide-to-smart-app-development-for-startups/
LOCATION:4/F\, Koho\, 73-75 Hung To Road\, Kwun Tong\, Hong Kong
CATEGORIES:Upcoming Events
ATTACH;FMTTYPE=image/png:https://dalahk.org/wp-content/uploads/2024/04/HKWTIA_ASA_Speakers.png
END:VEVENT
BEGIN:VEVENT
DTSTART;TZID=Asia/Shanghai:20240527T123000
DTEND;TZID=Asia/Shanghai:20240527T133000
DTSTAMP:20260424T143635
CREATED:20240509T061049Z
LAST-MODIFIED:20250107T093217Z
UID:15574-1716813000-1716816600@dalahk.org
SUMMARY:Leveraging Data and Gen AI in your ESG Journey
DESCRIPTION:Join us for an insightful session at the upcoming Education Luncheon organised by CFA Society HK on May 27. We are thrilled to have two esteemed founding fellows Calvin Cheng\, CFA Founder & CEO of Wizpresso 濃說\, and Dr. Jacob Wai\, as well as 2 guest speakers\, who will share the dynamic role of #AI in the finance industry\, shedding light on how it can enhance ESG practices and drive positive impact. \n👤 Dr. Pooja Khosla\, CEO\, Entelligent\n👤 Mr. Calvin Cheng\, CFA\, Founder & CEO\, Wizpresso\n👤 Dr. Jacob Wai\, Founding Fellow\, Convenor – Governance Committee\, DaLa\n👤 Mr. Tim Chan\, CFA\, Head of the ESG pillar\, Continuing Education Committee\, CFA Society Hong Kong (Moderator) \nFor more details and registration\, please visit 👉 https://bit.ly/3WymMDc
URL:https://dalahk.org/event/the-9th-cloud-forum-gen-ai-reshaping-the-future-cloudscape-2/
LOCATION:CFA Society Hong Kong\, 14/F\, BOC Group Life Assurance Tower\, 136 Des Voeux Road Central\, Hong Kong
CATEGORIES:Upcoming Events
ATTACH;FMTTYPE=image/jpeg:https://dalahk.org/wp-content/uploads/2024/05/Screenshot_9-5-2024_141327_www.linkedin.com_.jpeg
END:VEVENT
BEGIN:VEVENT
DTSTART;TZID=Asia/Shanghai:20240528T163000
DTEND;TZID=Asia/Shanghai:20240528T173000
DTSTAMP:20260424T143635
CREATED:20240508T090232Z
LAST-MODIFIED:20250107T093239Z
UID:15996-1716913800-1716917400@dalahk.org
SUMMARY:DaLa fully support HKICT Awards 2024 & 2025: Smart Mobility Award
DESCRIPTION:DaLa fully support “HKICT Awards 2024: Smart Mobility Award” by GS1. Steered by the Office of the Government Chief Information Officer\, the award aims at recognizing and promoting outstanding information and communications technology (ICT) inventions and applications in HK. There are no application fees. \nGS1 HK is appointed as the Leading Organizer for HKICT Smart Mobility Award 2024 which covers (1) Smart Transport\, (2) Smart Logistics & (3) Smart Tourism. \nThe application period for the Awards is now open for entry until 12 Jul 2024 noon time.  \nBenefits for Winners\n·        to display the official logo of the Hong Kong ICT Awards in their promotional materials;\n·        to participate in various promotional campaigns to publicise their achievements;\n·        to participate in investment matching activities co-organised by the Hong Kong Business Angel Network (HKBAN) and Hong Kong Science and Technology Parks Corporation (HKSTPC);\n·        to free participation in some large-scale local ICT events (e.g. InnoEX) for marketing exposure.\n·        And much more! \nTimeline \n\n\n\nOfficial Call for Entries\n2024.04.22\n\n\nDeadline for enrolment\n2024.07.12\n\n\nAdjudication (Physical presentation)\n2024.07.24 – 2024.09.17\n\n\nCategories’ Awards Presentation Ceremonies (Tentative)\n2024.11.22\n\n\nAwards Presentation Ceremony cum Dinner (Tentative)\n2024.11.22\n\n\n\nApplication Form: \nhttps://www.gs1hk.org/sites/default/files/2024-05/HKICTA-2024-App-Form-SMA-20240506.pdf \nSmart Mobility Awards Prospectus: \nhttps://www.gs1hk.org/sites/default/files/2024-04/SMA_2024_Prospectus.pdf \nAward Website: \nhttps://www.gs1hk.org/SmartMobilityAward \nHong Kong ICT Awards 2024: Smart Mobility Award Briefing Session\nDate: 28 May 2024\nTime: 4:30pm-5:30pm\nVenue: GS1 HK Office\, 22/F\, OTB Building\, 160 Gloucester Road\, Wanchai\nRegistration: https://www.gs1hk.org/events/hkicta24-sma-briefing
URL:https://dalahk.org/event/dala-fully-support-hkict-awards-2024-2025-smart-mobility-award/
LOCATION:GS1 HK Office\, 22/F\, OTB Building\, 160 Gloucester Road\, Wanchai
CATEGORIES:Upcoming Events
ATTACH;FMTTYPE=image/jpeg:https://dalahk.org/wp-content/uploads/2024/08/SMA-2024-web-banner_AW01_5.jpg
END:VEVENT
BEGIN:VEVENT
DTSTART;TZID=Asia/Shanghai:20240529T090000
DTEND;TZID=Asia/Shanghai:20240529T170000
DTSTAMP:20260424T143635
CREATED:20240521T032954Z
LAST-MODIFIED:20250107T093300Z
UID:15592-1716973200-1717002000@dalahk.org
SUMMARY:2024 SAP NOW Hong Kong - Bring Out Your Best: SAP Business AI
DESCRIPTION:We are fully support 2024 SAP NOW Hong Kong – Bring Out Your Best: SAP Business AI \nREGISTER NOW!\nDate: May 29\, 2024\, Wednesday\nTime: 09am – 17pm\nVenue: Hong Kong Ocean Park Marriott Hotel\nWebsite: https://go12.events.sap.com/hk/sapnow2024/agenda/ \nRegistration Link: https://go12.events.sap.com/hk/sapnow2024/?pk_source=association&pk_campaign=dala
URL:https://dalahk.org/event/2024-sap-now-hong-kong-bring-out-your-best-sap-business-ai/
LOCATION:Hong Kong Ocean Park Marriott Hotel
CATEGORIES:Upcoming Events
ATTACH;FMTTYPE=image/png:https://dalahk.org/wp-content/uploads/2024/05/SAP-May-29.png
END:VEVENT
BEGIN:VEVENT
DTSTART;TZID=Asia/Shanghai:20240531T143000
DTEND;TZID=Asia/Shanghai:20240531T173000
DTSTAMP:20260424T143635
CREATED:20240510T073410Z
LAST-MODIFIED:20250107T093316Z
UID:15581-1717165800-1717176600@dalahk.org
SUMMARY:SHOPLINE x HKU Business School Seminar - Gen AI: The Key to Unlocking Potentials of New Retail
DESCRIPTION:We are pleased to announce our support for the upcoming seminar hosted by SHOPLINE in collaboration with HKU Business School. The seminar’s engaging topic is “Gen AI: The Key to Unlocking Potentials of New Retail.” \nWe are thrilled to have esteemed founding fellow\, Matthew Chan\, along with other distinguished guests\, who will be sharing their valuable insights and exploring how Gen AI is revolutionizing the retail industry and uncovering new opportunities. \nSpeakers: \nChris So\, Head of Business Development\, AWS\nLesile Choy\, Group Founder & Chairman of AUSupreme\nMatthew Chan\, Founding Fellow\, Data Literacy Association & Group CDO\, Jardine Restaurant Group\nRuo Yang\, CFO\, SHOPLINE \nDon’t miss out on this incredible opportunity to gain valuable knowledge and network with industry leaders. Register now https://forms.gle/azWf4VYbyu3NN7g46 and secure your spot for this highly anticipated seminar!
URL:https://dalahk.org/event/shopline-x-hku-business-school-seminar-gen-ai-the-key-to-unlocking-potentials-of-new-retail/
LOCATION:HKU iCube\, 4005-07\, Two Exchange Square\, Central
CATEGORIES:Upcoming Events
ATTACH;FMTTYPE=image/png:https://dalahk.org/wp-content/uploads/2024/05/Event-SHOPLINExHKU-02.png
END:VEVENT
END:VCALENDAR