BEGIN:VCALENDAR
VERSION:2.0
PRODID:-//Data &amp; AI Literacy Association - ECPv6.15.20//NONSGML v1.0//EN
CALSCALE:GREGORIAN
METHOD:PUBLISH
X-ORIGINAL-URL:https://dalahk.org
X-WR-CALDESC:Events for Data &amp; AI Literacy Association
REFRESH-INTERVAL;VALUE=DURATION:PT1H
X-Robots-Tag:noindex
X-PUBLISHED-TTL:PT1H
BEGIN:VTIMEZONE
TZID:Asia/Shanghai
BEGIN:STANDARD
TZOFFSETFROM:+0800
TZOFFSETTO:+0800
TZNAME:CST
DTSTART:20230101T000000
END:STANDARD
END:VTIMEZONE
BEGIN:VEVENT
DTSTART;TZID=Asia/Shanghai:20240313T103000
DTEND;TZID=Asia/Shanghai:20240313T113000
DTSTAMP:20260424T170222
CREATED:20240305T072626Z
LAST-MODIFIED:20240307T031752Z
UID:15023-1710325800-1710329400@dalahk.org
SUMMARY:MarketingPulse and eTailingPulse - ENVISION THE NEXT LEVEL
DESCRIPTION:
URL:https://dalahk.org/event/marketingpulse-and-etailingpulse-envision-the-next-level/
LOCATION:HKCEC
CATEGORIES:Upcoming Events
ATTACH;FMTTYPE=image/jpeg:https://dalahk.org/wp-content/uploads/2024/03/KV-2.jpg
END:VEVENT
BEGIN:VEVENT
DTSTART;TZID=Asia/Shanghai:20240315T153000
DTEND;TZID=Asia/Shanghai:20240315T180000
DTSTAMP:20260424T170222
CREATED:20240301T094747Z
LAST-MODIFIED:20240301T094836Z
UID:15006-1710516600-1710525600@dalahk.org
SUMMARY:Green in Prop+Con - Partner Connent Event
DESCRIPTION:DaLa is committed to supporting ESG initiatives and promoting green technologies to help Hong Kong achieve sustainability and net-zero goals. \nWe are delighted to announce our support as a partnering organization for “Green in Prop+Con\,” organized by HKSTP. This event provides a platform to source and match global and local green tech solutions with the specific needs of our corporate partners. \nFor more information\, please visit HKSTP – Partnerships – Green In Prop+Con. \nLet’s join forces and work towards a greener future together with DaLa.
URL:https://dalahk.org/event/green-in-propcon-partner-connent-event/
LOCATION:The Community Lab\, 24/F\, Lee Garden Five\, 18 Hysan Avenue\, Causeway Bay\, Hong Kong
CATEGORIES:Upcoming Events
ATTACH;FMTTYPE=image/jpeg:https://dalahk.org/wp-content/uploads/2024/03/KV.jpg
END:VEVENT
BEGIN:VEVENT
DTSTART;TZID=Asia/Shanghai:20240322T150000
DTEND;TZID=Asia/Shanghai:20240322T170000
DTSTAMP:20260424T170222
CREATED:20240314T115019Z
LAST-MODIFIED:20240314T120038Z
UID:15196-1711119600-1711126800@dalahk.org
SUMMARY:Asia Smart App Awards 2024
DESCRIPTION:We are pleased to support Asia Smart App Awards 2024 organized by WTIA to discover the future of app growth alongside ASA 2024 Award Winners. \nKick-off Seminar cum Promotion Seminar of Asia Smart App Awards 2024\nDate: 22 March 2024 (Friday)\nTime: 3:00am – 5:00pm\nVenue: Tecent WeStart\, 6/F\, KOHO\, 75 Hung To Road\, Kwun Tong\, Hong Kong\nLanguage: English\nAdmission: Fee \nAgenda:\n1. Welcoming Speech – Mr. Keith Li\, Chairman\, WTIA\n2. Kick-off Ceremony\n3. Group Photo Session\n4. Introductory Section to Asia Smart App Awards 2024\n5. Panel Discussion “Beyond Imagination: How Smart Applications are Transforming the World We Live In”\n6. Networking \n 
URL:https://dalahk.org/event/asia-smart-app-awards-2024/
LOCATION:Tecent WeStart\, 6/F\, KOHO\, 75 Hung To Road\, Kwun Tong\, Hong Kong
CATEGORIES:Upcoming Events
ATTACH;FMTTYPE=image/png:https://dalahk.org/wp-content/uploads/2024/03/ASA_Kick-off_SO.png
END:VEVENT
BEGIN:VEVENT
DTSTART;TZID=Asia/Shanghai:20240324T090000
DTEND;TZID=Asia/Shanghai:20240324T180000
DTSTAMP:20260424T170222
CREATED:20240322T020013Z
LAST-MODIFIED:20240322T020909Z
UID:15316-1711270800-1711303200@dalahk.org
SUMMARY:IOT DATA HACKATHON 2024 - Final Pitch Day
DESCRIPTION:The GS1 IoT Data Hackathon 2024 – Final Pitch Day marks the culmination of the hackathon. Our founding chairman\, Dr. Charm\, will deliver the opening remarks and be a part of the judging panel. DaLa is fully committed to providing ongoing support for these young innovators and participants\, encouraging them to leverage IoT data and develop impactful solutions for real-world business challenges.
URL:https://dalahk.org/event/iot-data-hackathon-2024-final-pitch-day/
CATEGORIES:Upcoming Events
ATTACH;FMTTYPE=image/jpeg:https://dalahk.org/wp-content/uploads/2024/03/GS1-KV.jpg
END:VEVENT
BEGIN:VEVENT
DTSTART;VALUE=DATE:20240327
DTEND;VALUE=DATE:20240329
DTSTAMP:20260424T170222
CREATED:20240226T035932Z
LAST-MODIFIED:20240226T041440Z
UID:14818-1711497600-1711670399@dalahk.org
SUMMARY:Asian Knowledge and Innovation Forum (AKIF) 2024: Generative AI – Transforming Knowledge Management and Innovation
DESCRIPTION:We are thrilled to announce that DaLa is proud to be a supporting organization of the Asian Knowledge and Innovation Forum (AKIF) 2024: Generative AI – Transforming Knowledge Management and Innovation\, happening on March 27-28\, 2024. This highly anticipated annual event provides a unique platform for professionals in management and organizational development to exchange knowledge\, expertise\, and experiences. It’s also a great opportunity to recognize and celebrate innovators with their groundbreaking strategies and practices. \nWe are delighted to inform you that our esteemed DaLa founding chairman\, Dr. Charm\, will be moderating a key panel discussion on “navigating generative AI in the business landscape.” Additionally\, our founding fellow\, Ravel Lai\, will be one of the speakers\, sharing valuable insights on harnessing the power of AI to unlock business potential. \nJoin us at the event to explore the transformative power of generative AI in knowledge management and innovation. It’s an invaluable opportunity to connect with like-minded professionals who share a passion for leveraging AI to drive business success. \nLooking forward to seeing you there! \nCheck the event details: Asian Knowledge and Innovation Forum (AKIF)
URL:https://dalahk.org/event/asian-knowledge-and-innovation-forum-akif-2024-generative-ai-transforming-knowledge-management-and-innovation/
LOCATION:The Ballroom\, Cordis Hotel 555 Shanghai Street\, Mong Kok Directions to Cordis Hotel\, Hong Kong\, Cordis Hotel 555 Shanghai Street\, Mong Kok\, Hong Kong
CATEGORIES:Upcoming Events
ATTACH;FMTTYPE=image/jpeg:https://dalahk.org/wp-content/uploads/2024/02/KV-1.jpg
END:VEVENT
END:VCALENDAR